BEGIN:VCALENDAR
VERSION:2.0
PRODID:-//ChamberMaster//Event Calendar 2.0//EN
METHOD:PUBLISH
X-PUBLISHED-TTL:P3D
REFRESH-INTERVAL:P3D
CALSCALE:GREGORIAN
BEGIN:VEVENT
DTSTART:20240223T000000Z
DTEND:20240223T010000Z
X-MICROSOFT-CDO-ALLDAYEVENT:FALSE
SUMMARY:Living with Heart Failure Webinar
DESCRIPTION:
X-ALT-DESC;FMTTYPE=text/html:
LOCATION:
UID:e.2888.6732
SEQUENCE:3
DTSTAMP:20260424T073024Z
URL:https://business.waxahachiechamber.com/events/details/living-with-heart-failure-webinar-6732
END:VEVENT

END:VCALENDAR
