BEGIN:VCALENDAR
VERSION:2.0
PRODID:-//ChamberMaster//Event Calendar 2.0//EN
METHOD:PUBLISH
X-PUBLISHED-TTL:P3D
REFRESH-INTERVAL:P3D
CALSCALE:GREGORIAN
BEGIN:VEVENT
DTSTART:20230216T010000Z
DTEND:20230219T020000Z
X-MICROSOFT-CDO-ALLDAYEVENT:FALSE
SUMMARY:Love Poems and Songs...
DESCRIPTION:SPONSORED BY JUAN HERRERA LANDSCAPES\n\n\n\nJoin Waxahachie Group Theater and Friends of Sims Library for Love Your Library Month!\n\nRefreshments after performance.
X-ALT-DESC;FMTTYPE=text/html:SPONSORED BY JUAN HERRERA LANDSCAPES<br />\n<br />\nJoin Waxahachie Group Theater and Friends of Sims Library for Love Your Library Month!<br />\nRefreshments after performance.
LOCATION:Sims Library Lyceum Theater 515 W Main Street Waxahachie\, TX
UID:e.2888.6006
SEQUENCE:3
DTSTAMP:20260424T114639Z
URL:https://business.waxahachiechamber.com/events/details/love-poems-and-songs-6006
END:VEVENT

END:VCALENDAR
