BEGIN:VCALENDAR
VERSION:2.0
PRODID:-//ChamberMaster//Event Calendar 2.0//EN
METHOD:PUBLISH
X-PUBLISHED-TTL:P3D
REFRESH-INTERVAL:P3D
CALSCALE:GREGORIAN
BEGIN:VEVENT
DTSTART:20240223T150000Z
DTEND:20240223T150000Z
X-MICROSOFT-CDO-ALLDAYEVENT:FALSE
SUMMARY:Men's Suit Donation Drive
DESCRIPTION:Suit Drive to benefit the upcoming Reach Council Ellis County Prom Pop Up Event.  Donations of clean\, gently used suits can be dropped off at Prosperity Bank\, 401 Ferris Ave.\, Waxahachie.\n\n\n\nDonations accepted at Prosperity Bank Lobby Mon-Fri\, 9am\,-4pm through Feb. 29th.\n\n\n\nSuits\, need sizes 30-38\n\nDress Shirts\n\nTies and Belts\n\nDress Shoes\n\nConverse\, Vans\, or Cowboy Boots
X-ALT-DESC;FMTTYPE=text/html:<span style="color: rgb(36\, 36\, 36)\; font-family: &quot\;Segoe UI&quot\;\, &quot\;Segoe UI Web (West European)&quot\;\, &quot\;Segoe UI&quot\;\, -apple-system\, BlinkMacSystemFont\, Roboto\, &quot\;Helvetica Neue&quot\;\, sans-serif\; font-size: 15px\; background-color: rgb(255\, 255\, 255)\;">Suit Drive to benefit the upcoming Reach Council Ellis County Prom Pop Up Event.&nbsp\; Donations of clean\, gently used suits can be dropped off at Prosperity Bank\, 401 Ferris Ave.\, Waxahachie.<br />\n<br />\nDonations accepted at Prosperity Bank Lobby Mon-Fri\, 9am\,-4pm through Feb. 29th.<br />\n<br />\nSuits\, need sizes 30-38<br />\nDress Shirts<br />\nTies and Belts<br />\nDress Shoes</span><br />\nConverse\, Vans\, or Cowboy Boots
LOCATION:Prosperity Bank 401 Ferris Ave Waxahachie\, TX 75165
UID:e.2888.6763
SEQUENCE:3
DTSTAMP:20260424T073303Z
URL:https://business.waxahachiechamber.com/events/details/men-s-suit-donation-drive-02-23-2024-6763
END:VEVENT

END:VCALENDAR
