BEGIN:VCALENDAR
VERSION:2.0
PRODID:-//ChamberMaster//Event Calendar 2.0//EN
METHOD:PUBLISH
X-PUBLISHED-TTL:P3D
REFRESH-INTERVAL:P3D
CALSCALE:GREGORIAN
BEGIN:VEVENT
DTSTART:20221108T000000Z
DTEND:20221108T020000Z
X-MICROSOFT-CDO-ALLDAYEVENT:FALSE
SUMMARY:Mosaic Art for Beginners
DESCRIPTION:Get started on your journey in the beautiful art of mosaics! This class includes the supplies and tools to design your own a 8" square trivet. Your inspiration and creativity are all you need to bring. We will see you in class!  Instructor is Claire Conn.
X-ALT-DESC;FMTTYPE=text/html:<span style="background-color:rgb(255\, 255\, 255)\; font-family:roboto\,robotodraft\,helvetica\,arial\,sans-serif\; font-size:13px">Get started on your journey in the beautiful art of mosaics! This class includes the supplies and tools to design your own a 8&quot\; square trivet. Your inspiration and creativity are all you need to bring. We will see you in class!&nbsp\; Instructor is Claire Conn.</span>
LOCATION:Global High School 275 Indian Drive Waxahachie\, Texas 75165
UID:e.2888.5792
SEQUENCE:3
DTSTAMP:20260424T061603Z
URL:https://business.waxahachiechamber.com/events/details/mosaic-art-for-beginners-11-07-2022-5792
END:VEVENT

END:VCALENDAR
