BEGIN:VCALENDAR
VERSION:2.0
PRODID:-//ChamberMaster//Event Calendar 2.0//EN
METHOD:PUBLISH
X-PUBLISHED-TTL:P3D
REFRESH-INTERVAL:P3D
CALSCALE:GREGORIAN
BEGIN:VEVENT
DTSTART:20221021T210000Z
DTEND:20221022T000000Z
X-MICROSOFT-CDO-ALLDAYEVENT:FALSE
SUMMARY:OPEN HOUSE: GALA SENIOR APARTMENTS
DESCRIPTION:TOURS\, REFRESHMENTS\, LEASING SPECIALS\, AND CHANCES TO WIN BIG! \n\n4PM TO 7PM! \n\nCHECK OUT WAXAHACHIE'S NEW SENIOR APARMENTS!
X-ALT-DESC;FMTTYPE=text/html:TOURS\, REFRESHMENTS\, LEASING SPECIALS\, AND CHANCES TO WIN BIG!&nbsp\;<br />\n4PM TO 7PM!&nbsp\;<br />\nCHECK OUT WAXAHACHIE&#39\;S NEW SENIOR APARMENTS!
LOCATION:240 Parks School House Rd Waxahachie\, TX 75165
UID:e.2888.5853
SEQUENCE:3
DTSTAMP:20260424T055609Z
URL:https://business.waxahachiechamber.com/events/details/open-house-gala-senior-apartments-5853
END:VEVENT

END:VCALENDAR
