BEGIN:VCALENDAR
VERSION:2.0
PRODID:-//ChamberMaster//Event Calendar 2.0//EN
METHOD:PUBLISH
X-PUBLISHED-TTL:P3D
REFRESH-INTERVAL:P3D
CALSCALE:GREGORIAN
BEGIN:VEVENT
DTSTART:20221010T233000Z
DTEND:20221011T010000Z
X-MICROSOFT-CDO-ALLDAYEVENT:FALSE
SUMMARY:Pickle Ball for Beginners - Class A
DESCRIPTION:The newest in health\, fitness\, and FUN! Come out and try pickleball\, which is like tennis only easier! Paddles & balls provided. Must wear non-marking sneakers. Proper court shoes are preferred. Instructor is Michelle Cornish.
X-ALT-DESC;FMTTYPE=text/html:<span style="background-color:rgb(255\, 255\, 255)\; font-family:roboto\,robotodraft\,helvetica\,arial\,sans-serif\; font-size:13px">The newest in health\, fitness\, and FUN! Come out and try pickleball\, which is like tennis only easier! Paddles &amp\; balls provided. Must wear non-marking sneakers. Proper court shoes are preferred. Instructor is Michelle Cornish.</span>
LOCATION:Pickleball Paradise TX 6260 Honeysuckle Rd. Midlothian\, TX 76065
UID:e.2888.5817
SEQUENCE:3
DTSTAMP:20260424T055518Z
URL:https://business.waxahachiechamber.com/events/details/pickle-ball-for-beginners-class-a-10-10-2022-5817
END:VEVENT

END:VCALENDAR
