BEGIN:VCALENDAR
VERSION:2.0
PRODID:-//ChamberMaster//Event Calendar 2.0//EN
METHOD:PUBLISH
X-PUBLISHED-TTL:P3D
REFRESH-INTERVAL:P3D
CALSCALE:GREGORIAN
BEGIN:VEVENT
DTSTART:20240208T180000Z
DTEND:20240208T190000Z
X-MICROSOFT-CDO-ALLDAYEVENT:FALSE
SUMMARY:Planning for the Business Owner
DESCRIPTION:Planning for the Business Owner \n\n\n\nYou are invited to attend Planning for the Business Owner\, a complimentary informational workshop designed specifically to review many of the issues faced by closely held business owners today.\n\n\n\nTopics covered include:\n\n- The impact the loss of a key employee has on the owner of a business\n\n- Ways to reward key employees and owners\n\n- Estate planning issues that will be faced by the business owner and his/her family at death\n\n- To help lay out a "road map" or action plan for implementing solutions
X-ALT-DESC;FMTTYPE=text/html:<strong>Planning for the Business Owner </strong><br />\n<br />\nYou are invited to attend Planning for the Business Owner\, a complimentary informational workshop designed specifically to review many of the issues faced by closely held business owners today.<br />\n<br />\nTopics covered include:<br />\n- The impact the loss of a key employee has on the owner of a business<br />\n- Ways to reward key employees and owners<br />\n- Estate planning issues that will be faced by the business owner and his/her family at death<br />\n- To help lay out a &quot\;road map&quot\; or action plan for implementing solutions
LOCATION:Topic: Business Owner Webinar Time: Feb 8\, 2024 12:00 PM Central Time (US and Canada) Join Zoom Meeting https://nylife.zoom.us/j/91273208825?pwd=V0dITVNOSk5WRWZvemtOUTRMK2ZuQT09 Meeting ID: 912 7320 8825 Passcode: 615522 --- One tap mobile +13462487799\,\,91273208825#\,\,\,\,*615522# US (Houston) +12532050468\,\,91273208825#\,\,\,\,*615522# US --- Dial by your location +1 346 248 7799 US (Houston) +1 253 205 0468 US +1 253 215 8782 US (Tacoma) +1 669 444 9171 US +1 669 900 6833 US (San Jose) +1 719 359 4580 US +1 360 209 5623 US +1 386 347 5053 US +1 507 473 4847 US +1 564 217 2000 US +1 646 931 3860 US +1 689 278 1000 US +1 929 436 2866 US (New York) +1 301 715 8592 US (Washington DC) +1 305 224 1968 US +1 309 205 3325 US +1 312 626 6799 US (Chicago) Meeting ID: 912 7320 8825 Passcode: 615522 Find your local number: https://nylife.zoom.us/u/abSi1Em9bO --- Join by SIP 91273208825@zoomcrc.com --- Join by H.323 162.255.37.11 (US West) 162.255.36.11 (US East) 115.114.131.7 (India Mumbai) 115.114.115.7 (India Hyderabad) 213.19.144.110 (Amsterdam Netherlands) 103.122.166.55 (Australia Sydney) 103.122.167.55 (Australia Melbourne) 209.9.211.110 (Hong Kong SAR) 149.137.68.253 (Mexico) 207.226.132.110 (Japan Tokyo) 149.137.24.110 (Japan Osaka) Meeting ID: 912 7320 8825 Passcode: 615522
UID:e.2888.6743
SEQUENCE:3
DTSTAMP:20260424T073536Z
URL:https://business.waxahachiechamber.com/events/details/planning-for-the-business-owner-02-08-2024-6743
END:VEVENT

END:VCALENDAR
