BEGIN:VCALENDAR
VERSION:2.0
PRODID:-//ChamberMaster//Event Calendar 2.0//EN
METHOD:PUBLISH
X-PUBLISHED-TTL:P3D
REFRESH-INTERVAL:P3D
CALSCALE:GREGORIAN
BEGIN:VEVENT
DTSTART:20221003T230000Z
DTEND:20221004T000000Z
X-MICROSOFT-CDO-ALLDAYEVENT:FALSE
SUMMARY:Poetry & Publishing - A How To Guide
DESCRIPTION:Join local author and poet as he shares the art of poetry and teaches you how to write and how to self-publish your art. Instructor is Jeff Lynch.
X-ALT-DESC;FMTTYPE=text/html:<span style="background-color:rgb(255\, 255\, 255)\; font-family:roboto\,robotodraft\,helvetica\,arial\,sans-serif\; font-size:13px">Join local author and poet as he shares the art of poetry and teaches you how to write and how to self-publish your art. Instructor is Jeff Lynch.</span>
LOCATION:Waxahachie Global High School 275 Indian Drive Waxahachie\, Texas 75165
UID:e.2888.5796
SEQUENCE:3
DTSTAMP:20260422T085816Z
URL:https://business.waxahachiechamber.com/events/details/poetry-publishing-a-how-to-guide-5796
END:VEVENT

END:VCALENDAR
