BEGIN:VCALENDAR
VERSION:2.0
PRODID:-//ChamberMaster//Event Calendar 2.0//EN
METHOD:PUBLISH
X-PUBLISHED-TTL:P3D
REFRESH-INTERVAL:P3D
CALSCALE:GREGORIAN
BEGIN:VEVENT
DTSTART:20240301T000000Z
DTEND:20240301T030000Z
X-MICROSOFT-CDO-ALLDAYEVENT:FALSE
SUMMARY:Purse Bingo Benefitting Mentors Care
DESCRIPTION:Event Tickets:\n\nMentors Care   1st Annual Purse Bingo 2.29.24 (lglforms.com)\n\n\n\nLouis Vuitton Raffle Tickets\n\nMentors Care   Louis Vuitton Raffle Ticket Sales (lglforms.com)
X-ALT-DESC;FMTTYPE=text/html:Event Tickets:<br />\n<a href="https://secure.lglforms.com/form_engine/s/WfagxNtLdSW38NVb5IwvJA">Mentors Care &middot\; 1st Annual Purse Bingo 2.29.24 (lglforms.com)</a><br />\n<br />\nLouis Vuitton Raffle Tickets<br />\n<a href="https://secure.lglforms.com/form_engine/s/EAzSQw8reTXj_rLr05ARFw">Mentors Care &middot\; Louis Vuitton Raffle Ticket Sales (lglforms.com)</a>
LOCATION:Bella Woods 1888 N 9th St. Midlothian\, TX 76065
UID:e.2888.6738
SEQUENCE:3
DTSTAMP:20260424T073451Z
URL:https://business.waxahachiechamber.com/events/details/purse-bingo-benefitting-mentors-care-6738
END:VEVENT

END:VCALENDAR
