BEGIN:VCALENDAR
VERSION:2.0
PRODID:-//ChamberMaster//Event Calendar 2.0//EN
METHOD:PUBLISH
X-PUBLISHED-TTL:P3D
REFRESH-INTERVAL:P3D
CALSCALE:GREGORIAN
BEGIN:VEVENT
DTSTART:20221027T184500Z
DTEND:20221028T210000Z
X-MICROSOFT-CDO-ALLDAYEVENT:FALSE
SUMMARY:Race4Education
DESCRIPTION:Race For Education is an opportunity to help raise funds for Waxahachie Prep Academy. Waxahachie Prep grew quickly this year\, which means additional requirements are needed\, like new and updated curriculum\, as well as teacher tools (such as manipulatives and new technology like tablets and smart boards)!  We are also happy to have new programs this year\, like theater\, and digital media art\, that round out our extracurricular activities along with our ever growing athletic program. These programs are top-notch\, and need additional equipment and funding.\n\n\n\nTo participate\, each student can post their own fundraising page\, and Donors can donate here https://secure.fundeasy.com/ministrysync/event/website/home/?e=24042\n\n\n\n Thank you so much for being a part of our journey here at Waxahachie Prep Academy and helping us grow our students in a Christ-centered\, college-preparatory environment.
X-ALT-DESC;FMTTYPE=text/html:<span style="color:rgb(36\, 36\, 36)\; font-family:segoe ui\,segoe ui web (west european)\,segoe ui\,-apple-system\,blinkmacsystemfont\,roboto\,helvetica neue\,sans-serif\; font-size:15px">Race For Education is an opportunity to help raise funds for Waxahachie Prep Academy. Waxahachie Prep grew quickly this year\, which means additional requirements are needed\, like new and updated curriculum\, as well as teacher tools (such as manipulatives and new technology like tablets and smart boards)!&nbsp\; We are also happy to have new programs this year\, like theater\, and digital media art\, that round out our extracurricular activities along with our ever growing athletic program. These programs are top-notch\, and need additional equipment and funding.<br />\n<br />\nTo participate\, each student can post their own fundraising page\, and Donors can donate here&nbsp\;</span><a href="https://secure.fundeasy.com/ministrysync/event/website/home/?e=24042">https://secure.fundeasy.com/ministrysync/event/website/home/?e=24042</a><br />\n<br />\n<span style="color:rgb(36\, 36\, 36)\; font-size:15px">&nbsp\;Thank you so much for being a part of our journey here at Waxahachie Prep Academy and helping us grow our students in a Christ-centered\, college-preparatory environment.</span><br />\n&nbsp\;
LOCATION:Waxahachie Prep Academy 1116 Brown St. Waxahachie\, TX 75165
UID:e.2888.5857
SEQUENCE:3
DTSTAMP:20260424T035624Z
URL:https://business.waxahachiechamber.com/events/details/race4education-10-27-2022-5857
END:VEVENT

END:VCALENDAR
