BEGIN:VCALENDAR
VERSION:2.0
PRODID:-//ChamberMaster//Event Calendar 2.0//EN
METHOD:PUBLISH
X-PUBLISHED-TTL:P3D
REFRESH-INTERVAL:P3D
CALSCALE:GREGORIAN
BEGIN:VEVENT
DTSTART:20231102T183000Z
DTEND:20231102T203000Z
X-MICROSOFT-CDO-ALLDAYEVENT:FALSE
SUMMARY:Race4Education @ Waxahachie Prep Academy
DESCRIPTION:Race4Education is our 15th Annual Fall Fundraiser where students request pledges from their community and families to run. Local businesses donate prizes for goodie bags and winners. Thank you especially to Jordan E's Popcorn and Bahama Bucks\, and our sponsors Lonestar Flooring\, P&H Pallet\, and Phillip Taft & Associates!\n\n\n\nTo donate to a student or to the general event\, please go to event.fundeasy.com/26261. We thank you in advance!
X-ALT-DESC;FMTTYPE=text/html:Race4Education is our 15th Annual Fall Fundraiser where students request pledges from their community and families to run. Local businesses donate prizes for goodie bags and winners. Thank you especially to Jordan E&#39\;s Popcorn and Bahama Bucks\, and our sponsors Lonestar Flooring\, P&amp\;H Pallet\, and Phillip Taft &amp\; Associates!<br />\n<br />\nTo donate to a student or to the general event\, please go to event.fundeasy.com/26261. We thank you in advance!<br />\n&nbsp\;
LOCATION:1116 Brown St\, Waxahachie\, TX
UID:e.2888.6671
SEQUENCE:3
DTSTAMP:20260424T142410Z
URL:https://business.waxahachiechamber.com/events/details/race4education-waxahachie-prep-academy-6671
END:VEVENT

END:VCALENDAR
