BEGIN:VCALENDAR
VERSION:2.0
PRODID:-//ChamberMaster//Event Calendar 2.0//EN
METHOD:PUBLISH
X-PUBLISHED-TTL:P3D
REFRESH-INTERVAL:P3D
CALSCALE:GREGORIAN
BEGIN:VEVENT
DTSTART:20231202T170000Z
DTEND:20231202T190000Z
X-MICROSOFT-CDO-ALLDAYEVENT:FALSE
SUMMARY:Reclaim Wellness Collective Christmas Market & Grand Opening
DESCRIPTION:Christmas Market & Grand Opening\n\n\n\nMeet & Greet Providers\, Brunch\, Vendors
X-ALT-DESC;FMTTYPE=text/html:Christmas Market &amp\; Grand Opening<br />\n<br />\nMeet &amp\; Greet Providers\, Brunch\, Vendors
LOCATION:409 E Jefferson St. Waxahachie\, TX 75165
UID:e.2888.6693
SEQUENCE:3
DTSTAMP:20260424T111258Z
URL:https://business.waxahachiechamber.com/events/details/reclaim-wellness-collective-christmas-market-grand-opening-6693
END:VEVENT

END:VCALENDAR
