BEGIN:VCALENDAR
VERSION:2.0
PRODID:-//ChamberMaster//Event Calendar 2.0//EN
METHOD:PUBLISH
X-PUBLISHED-TTL:P3D
REFRESH-INTERVAL:P3D
CALSCALE:GREGORIAN
BEGIN:VEVENT
DTSTART:20231115T160000Z
DTEND:20231115T200000Z
X-MICROSOFT-CDO-ALLDAYEVENT:FALSE
SUMMARY:Red\, White & You Statewide Hiring Event
DESCRIPTION:It's that time of year again! Workforce Solutions for North Central Texas (WSNCT) is hosting its annual Hiring Red White & You! Statewide Hiring Event on Wednesday\, November 15th in Midlothian.  The event is geared towards veterans and their spouses but is open to the public.  This is a no-cost event and provides access to hundreds for career seekers in our 14-county region.  Visit Hiring Red\, White and You! | Workforce Solutions for North Central Texas (dfwjobs.com) to access the registration form\, and if you have any questions about the event\, please email us at employers@dfwjobs.com.  Thank you and we look forward to seeing you on November 15th!
X-ALT-DESC;FMTTYPE=text/html:<span style="border: 0px\; font-variant-numeric: inherit\; font-variant-east-asian: inherit\; font-variant-alternates: inherit\; font-variant-position: inherit\; font-stretch: inherit\; font-size: 14.6667px\; line-height: inherit\; font-family: Calibri\, sans-serif\; font-optical-sizing: inherit\; font-kerning: inherit\; font-feature-settings: inherit\; font-variation-settings: inherit\; margin: 0px\; padding: 0px\; vertical-align: baseline\; color: rgb(36\, 36\, 36)\;">It&rsquo\;s that time of year again! Workforce Solutions for North Central Texas (WSNCT) is hosting its annual<span class="x_xcontentpasted01" style="border: 0px\; font: inherit\; margin: 0px\; padding: 0px\; vertical-align: baseline\; color: inherit\;">&nbsp\;</span></span><span class="x_xcontentpasted01" style="border: 0px\; font-variant-numeric: inherit\; font-variant-east-asian: inherit\; font-variant-alternates: inherit\; font-variant-position: inherit\; font-stretch: inherit\; font-size: 14.6667px\; line-height: inherit\; font-family: Calibri\, sans-serif\; font-optical-sizing: inherit\; font-kerning: inherit\; font-feature-settings: inherit\; font-variation-settings: inherit\; margin: 0px\; padding: 0px\; vertical-align: baseline\; color: rgb(36\, 36\, 36)\;"><b><span style="border: 0px\; font: inherit\; margin: 0px\; padding: 0px\; vertical-align: baseline\; color: rgb(47\, 85\, 151)\;">Hiring Red White &amp\; You! Statewide Hiring Event</span></b><span style="border: 0px\; font: inherit\; margin: 0px\; padding: 0px\; vertical-align: baseline\;">&nbsp\;</span></span><span style="border: 0px\; font-variant-numeric: inherit\; font-variant-east-asian: inherit\; font-variant-alternates: inherit\; font-variant-position: inherit\; font-stretch: inherit\; font-size: 14.6667px\; line-height: inherit\; font-family: Calibri\, sans-serif\; font-optical-sizing: inherit\; font-kerning: inherit\; font-feature-settings: inherit\; font-variation-settings: inherit\; margin: 0px\; padding: 0px\; vertical-align: baseline\; color: rgb(36\, 36\, 36)\;">on Wednesday\, November 15<sup>th</sup><span class="x_xcontentpasted01" style="border: 0px\; font: inherit\; margin: 0px\; padding: 0px\; vertical-align: baseline\; color: inherit\;">&nbsp\;</span>in Midlothian.&nbsp\; The event is geared towards veterans and their spouses but is open to the public.&nbsp\; This is a no-cost event and provides access to hundreds for career seekers in our 14-county region.&nbsp\; Visit </span><a href="https://www.dfwjobs.com/hiring-red-white-and-you">Hiring Red\, White and You! | Workforce Solutions for North Central Texas (dfwjobs.com)</a>&nbsp\;<span style="border: 0px\; font-variant-numeric: inherit\; font-variant-east-asian: inherit\; font-variant-alternates: inherit\; font-variant-position: inherit\; font-stretch: inherit\; font-size: 14.6667px\; line-height: inherit\; font-family: Calibri\, sans-serif\; font-optical-sizing: inherit\; font-kerning: inherit\; font-feature-settings: inherit\; font-variation-settings: inherit\; margin: 0px\; padding: 0px\; vertical-align: baseline\; color: rgb(36\, 36\, 36)\;">to access the registration form\, and if you have any questions about the event\, please email us at<span class="x_xcontentpasted01" style="border: 0px\; font: inherit\; margin: 0px\; padding: 0px\; vertical-align: baseline\; color: inherit\;">&nbsp\;</span><a data-linkindex="0" href="mailto:employers@dfwjobs.com" style="border: 0px\; font: inherit\; margin: 0px\; padding: 0px\; vertical-align: baseline\; color: blue\;">employers@dfwjobs.com</a>.&nbsp\; Thank you and we look forward to seeing you on November 15<sup>th</sup>!</span>
LOCATION:Midlothian Civic Center 1 Community Circle Midlothian\, TX
UID:e.2888.6666
SEQUENCE:3
DTSTAMP:20260424T123945Z
URL:https://business.waxahachiechamber.com/events/details/red-white-you-statewide-hiring-event-6666
END:VEVENT

END:VCALENDAR
