BEGIN:VCALENDAR
VERSION:2.0
PRODID:-//ChamberMaster//Event Calendar 2.0//EN
METHOD:PUBLISH
X-PUBLISHED-TTL:P3D
REFRESH-INTERVAL:P3D
CALSCALE:GREGORIAN
BEGIN:VEVENT
DTSTART:20240711T160000Z
DTEND:20240711T210000Z
X-MICROSOFT-CDO-ALLDAYEVENT:FALSE
SUMMARY:Revive Aesthetics' Neo Summer Sculpt Fest
DESCRIPTION:NEO SUMMER SCULPT FEST\n\n\n\nFood - Drinks - Live Demos - Giveaways + More!\n\n\n\nBring a friend and join us to enjoy our summer specials!
X-ALT-DESC;FMTTYPE=text/html:NEO SUMMER SCULPT FEST<br />\n<br />\nFood - Drinks - Live Demos - Giveaways + More!<br />\n<br />\nBring a friend and join us to enjoy our summer specials!
LOCATION:Revive Aesthetics + Wellness 1002 Legacy Ranch Rd #102 Waxahachie\, TX 75165
UID:e.2888.6889
SEQUENCE:3
DTSTAMP:20260425T195312Z
URL:https://business.waxahachiechamber.com/events/details/revive-aesthetics-neo-summer-sculpt-fest-6889
END:VEVENT

END:VCALENDAR
