BEGIN:VCALENDAR
VERSION:2.0
PRODID:-//ChamberMaster//Event Calendar 2.0//EN
METHOD:PUBLISH
X-PUBLISHED-TTL:P3D
REFRESH-INTERVAL:P3D
CALSCALE:GREGORIAN
BEGIN:VEVENT
DTSTART:20231107T223000Z
DTEND:20231107T230000Z
X-MICROSOFT-CDO-ALLDAYEVENT:FALSE
SUMMARY:Ribbon Cutting: A-Affordable Storage
DESCRIPTION:Let's break the mold of the usual Ribbon Cuttings!\n\n\n\nIt's Happy Hour at A-Affordable Storage\, join us to celebrate our Grand Opening & toast to our success!\n\nJoin us & celebrate the Grand Opening & Ribbon Cutting of our Waxahachie North Location with the Waxahachie Chamber of Commerce!\n\nThis event is family friendly!\n\nStart Reserving Your Space Today -\n\na-affordablestorage.net\n\nQuestions? Give Us A Call -\n\n817-874-0183\n\nJoin Us -\n\n4009 Ovilla Rd. Waxahachie\, TX 75167\n\n______\n\nFood Truck by\n\nMeat Preacher\n\nmeatpreacher.com\n\nWine Tasting by\n\nCassaro Winery & Vineyard\n\ncassarowines.com\n\nLive Music by\n\nTrigger Jones\n\nwww.facebook.com/triggerjonesband1\n\nFun Activities by\n\nBattle Axes\n\ndfwbattleaxes.com\n\nSupport From -\n\nWrapworks\n\nEllis County Landscaping\n\nNeed a Guy Services\n\nFire House Kids\n\nElite Home Construction\n\nSantana Heating & A/C\n\nReliant Paving
X-ALT-DESC;FMTTYPE=text/html:<div class="xdj266r x11i5rnm xat24cr x1mh8g0r x1vvkbs" style="margin: 0px\; overflow-wrap: break-word\; font-family: &quot\;Segoe UI Historic&quot\;\, &quot\;Segoe UI&quot\;\, Helvetica\, Arial\, sans-serif\; color: rgb(5\, 5\, 5)\; font-size: 15px\; background-color: rgb(255\, 255\, 255)\;">Let&#39\;s break the mold of the usual Ribbon Cuttings!<br />\n<br />\nIt&#39\;s Happy Hour at A-Affordable Storage\, join us to celebrate our Grand Opening &amp\; toast to our success!</div>\n\n<div class="x11i5rnm xat24cr x1mh8g0r x1vvkbs xtlvy1s" style="margin: 0.5em 0px 0px\; overflow-wrap: break-word\; font-family: &quot\;Segoe UI Historic&quot\;\, &quot\;Segoe UI&quot\;\, Helvetica\, Arial\, sans-serif\; color: rgb(5\, 5\, 5)\; font-size: 15px\; background-color: rgb(255\, 255\, 255)\;">Join us &amp\; celebrate the Grand Opening &amp\; Ribbon Cutting of our Waxahachie North Location with the Waxahachie Chamber of Commerce!</div>\n\n<div class="x11i5rnm xat24cr x1mh8g0r x1vvkbs xtlvy1s" style="margin: 0.5em 0px 0px\; overflow-wrap: break-word\; font-family: &quot\;Segoe UI Historic&quot\;\, &quot\;Segoe UI&quot\;\, Helvetica\, Arial\, sans-serif\; color: rgb(5\, 5\, 5)\; font-size: 15px\; background-color: rgb(255\, 255\, 255)\;">This event is family friendly!</div>\n\n<div class="x11i5rnm xat24cr x1mh8g0r x1vvkbs xtlvy1s" style="margin: 0.5em 0px 0px\; overflow-wrap: break-word\; font-family: &quot\;Segoe UI Historic&quot\;\, &quot\;Segoe UI&quot\;\, Helvetica\, Arial\, sans-serif\; color: rgb(5\, 5\, 5)\; font-size: 15px\; background-color: rgb(255\, 255\, 255)\;">Start Reserving Your Space Today -<br />\n<a class="x1i10hfl xjbqb8w x6umtig x1b1mbwd xaqea5y xav7gou x9f619 x1ypdohk xt0psk2 xe8uvvx xdj266r x11i5rnm xat24cr x1mh8g0r xexx8yu x4uap5 x18d9i69 xkhd6sd x16tdsg8 x1hl2dhg xggy1nq x1a2a7pz xt0b8zv x1fey0fg" href="https://l.facebook.com/l.php?u=http%3A%2F%2Fa-affordablestorage.net%2F%3Ffbclid%3DIwAR235c9y4RzVB5BngdIJsgsrRIP6rvCcTuthTX7o_rpCORzkZovcDlwnw9E&amp\;h=AT2qPgxvZf7EbshTB1wjivLT_lnJ3PT2yoKpHb7Ioj-c9syy9C78b3aEumASNMP1z4tZ5B1LqdIjhRbAtPbRUQWQB40lK03K_ChGm1EMjqU5nUOsf8SsCswgEkEZ0a1Roimx&amp\;__tn__=q&amp\;c[0]=AT0AalDG9re2Tz733NAHe_-aBRA17jWD6XgPNskLiWgAL_Ir-BxGd3NV7e5VtskjLhFbhsVb_F-O05-tnLqsLtRox-2f__e2lvSu86ufAxiazbkMx7HFj-f0_bXgfKaPov-2QjReiuB56571O7QYWR-i-O4c" rel="nofollow" role="link" style="cursor: pointer\; text-decoration-line: none\; outline: none\; list-style: none\; margin: 0px\; text-align: inherit\; padding: 0px\; box-sizing: border-box\; background-color: transparent\; border-width: 0px\; border-style: initial\; border-color: initial\; -webkit-tap-highlight-color: transparent\; touch-action: manipulation\; display: inline\; font-family: inherit\;" tabindex="0" target="_blank">a-affordablestorage.net</a></div>\n\n<div class="x11i5rnm xat24cr x1mh8g0r x1vvkbs xtlvy1s" style="margin: 0.5em 0px 0px\; overflow-wrap: break-word\; font-family: &quot\;Segoe UI Historic&quot\;\, &quot\;Segoe UI&quot\;\, Helvetica\, Arial\, sans-serif\; color: rgb(5\, 5\, 5)\; font-size: 15px\; background-color: rgb(255\, 255\, 255)\;">Questions? Give Us A Call -<br />\n817-874-0183</div>\n\n<div class="x11i5rnm xat24cr x1mh8g0r x1vvkbs xtlvy1s" style="margin: 0.5em 0px 0px\; overflow-wrap: break-word\; font-family: &quot\;Segoe UI Historic&quot\;\, &quot\;Segoe UI&quot\;\, Helvetica\, Arial\, sans-serif\; color: rgb(5\, 5\, 5)\; font-size: 15px\; background-color: rgb(255\, 255\, 255)\;">Join Us -<br />\n4009 Ovilla Rd. Waxahachie\, TX 75167<br />\n______</div>\n\n<div class="x11i5rnm xat24cr x1mh8g0r x1vvkbs xtlvy1s" style="margin: 0.5em 0px 0px\; overflow-wrap: break-word\; font-family: &quot\;Segoe UI Historic&quot\;\, &quot\;Segoe UI&quot\;\, Helvetica\, Arial\, sans-serif\; color: rgb(5\, 5\, 5)\; font-size: 15px\; background-color: rgb(255\, 255\, 255)\;">Food Truck by<br />\nMeat Preacher<br />\n<a class="x1i10hfl xjbqb8w x6umtig x1b1mbwd xaqea5y xav7gou x9f619 x1ypdohk xt0psk2 xe8uvvx xdj266r x11i5rnm xat24cr x1mh8g0r xexx8yu x4uap5 x18d9i69 xkhd6sd x16tdsg8 x1hl2dhg xggy1nq x1a2a7pz xt0b8zv x1fey0fg" href="https://l.facebook.com/l.php?u=http%3A%2F%2Fmeatpreacher.com%2F%3Ffbclid%3DIwAR0ebRu7JMxuMBUdUbmC7_IvZpFXwEJ_j23_lnBKe5N6rJJ81VE3wthB7ec&amp\;h=AT2rDaPxL10htp3fp8QjMuH7fM-mrYoiy4TVpP9VFU_XZERCPGmdrNcYWO8D2ubz5MBRgyyAi5A60yr9jujZ9SBCZUaGlj1wUbzfczUJXhOIjAa9H4REId1r5KaePeNworAt&amp\;__tn__=q&amp\;c[0]=AT0AalDG9re2Tz733NAHe_-aBRA17jWD6XgPNskLiWgAL_Ir-BxGd3NV7e5VtskjLhFbhsVb_F-O05-tnLqsLtRox-2f__e2lvSu86ufAxiazbkMx7HFj-f0_bXgfKaPov-2QjReiuB56571O7QYWR-i-O4c" rel="nofollow" role="link" style="cursor: pointer\; text-decoration-line: none\; outline: none\; list-style: none\; margin: 0px\; text-align: inherit\; padding: 0px\; box-sizing: border-box\; background-color: transparent\; border-width: 0px\; border-style: initial\; border-color: initial\; -webkit-tap-highlight-color: transparent\; touch-action: manipulation\; display: inline\; font-family: inherit\;" tabindex="0" target="_blank">meatpreacher.com</a></div>\n\n<div class="x11i5rnm xat24cr x1mh8g0r x1vvkbs xtlvy1s" style="margin: 0.5em 0px 0px\; overflow-wrap: break-word\; font-family: &quot\;Segoe UI Historic&quot\;\, &quot\;Segoe UI&quot\;\, Helvetica\, Arial\, sans-serif\; color: rgb(5\, 5\, 5)\; font-size: 15px\; background-color: rgb(255\, 255\, 255)\;">Wine Tasting by<br />\nCassaro Winery &amp\; Vineyard<br />\n<a class="x1i10hfl xjbqb8w x6umtig x1b1mbwd xaqea5y xav7gou x9f619 x1ypdohk xt0psk2 xe8uvvx xdj266r x11i5rnm xat24cr x1mh8g0r xexx8yu x4uap5 x18d9i69 xkhd6sd x16tdsg8 x1hl2dhg xggy1nq x1a2a7pz xt0b8zv x1fey0fg" href="https://l.facebook.com/l.php?u=http%3A%2F%2Fcassarowines.com%2F%3Ffbclid%3DIwAR1iEBJvkWeYmJGbkiaPBdMTqcBvRhRq1XLZ8QWdBWcMIaJiQ1bkeTxudAo&amp\;h=AT0tGjry5eUkZhmj0_fLBVJR4Qi3jiMptMG7bF2HRqKLxwISUJbxEL1SN2irFVxbGNLKczuGjuXF2D2sNWC2YVV_6-TX5Grc9mNu7AW8Co-_wbvMdRdhBmIKDH8BtRXc5q92&amp\;__tn__=q&amp\;c[0]=AT0AalDG9re2Tz733NAHe_-aBRA17jWD6XgPNskLiWgAL_Ir-BxGd3NV7e5VtskjLhFbhsVb_F-O05-tnLqsLtRox-2f__e2lvSu86ufAxiazbkMx7HFj-f0_bXgfKaPov-2QjReiuB56571O7QYWR-i-O4c" rel="nofollow" role="link" style="cursor: pointer\; text-decoration-line: none\; outline: none\; list-style: none\; margin: 0px\; text-align: inherit\; padding: 0px\; box-sizing: border-box\; background-color: transparent\; border-width: 0px\; border-style: initial\; border-color: initial\; -webkit-tap-highlight-color: transparent\; touch-action: manipulation\; display: inline\; font-family: inherit\;" tabindex="0" target="_blank">cassarowines.com</a></div>\n\n<div class="x11i5rnm xat24cr x1mh8g0r x1vvkbs xtlvy1s" style="margin: 0.5em 0px 0px\; overflow-wrap: break-word\; font-family: &quot\;Segoe UI Historic&quot\;\, &quot\;Segoe UI&quot\;\, Helvetica\, Arial\, sans-serif\; color: rgb(5\, 5\, 5)\; font-size: 15px\; background-color: rgb(255\, 255\, 255)\;">Live Music by<br />\nTrigger Jones<br />\n<a class="x1i10hfl xjbqb8w x6umtig x1b1mbwd xaqea5y xav7gou x9f619 x1ypdohk xt0psk2 xe8uvvx xdj266r x11i5rnm xat24cr x1mh8g0r xexx8yu x4uap5 x18d9i69 xkhd6sd x16tdsg8 x1hl2dhg xggy1nq x1a2a7pz xt0b8zv xzsf02u x1s688f" href="https://www.facebook.com/triggerjonesband1?__cft__[0]=AZX5OJyyG-QLPF2sinTqvIq1dSJ-kQawY5syDCqHGIUvCSXnYKU2vbnY7y1z0KzpKCiOndeImdlPewBz0ktFuIKvxTF5mvHF5XkNvaaVYg2_Twv21UfAxaqC1iOhVym7M78&amp\;__tn__=q" role="link" style="cursor: pointer\; text-decoration-line: none\; outline: none\; list-style: none\; margin: 0px\; text-align: inherit\; padding: 0px\; box-sizing: border-box\; background-color: transparent\; border-width: 0px\; border-style: initial\; border-color: initial\; -webkit-tap-highlight-color: transparent\; font-weight: 600\; touch-action: manipulation\; display: inline\; font-family: inherit\;" tabindex="0"><span class="xt0psk2" style="display: inline\; font-family: inherit\;">www.facebook.com/triggerjonesband1</span></a></div>\n\n<div class="x11i5rnm xat24cr x1mh8g0r x1vvkbs xtlvy1s" style="margin: 0.5em 0px 0px\; overflow-wrap: break-word\; font-family: &quot\;Segoe UI Historic&quot\;\, &quot\;Segoe UI&quot\;\, Helvetica\, Arial\, sans-serif\; color: rgb(5\, 5\, 5)\; font-size: 15px\; background-color: rgb(255\, 255\, 255)\;">Fun Activities by<br />\nBattle Axes<br />\n<a class="x1i10hfl xjbqb8w x6umtig x1b1mbwd xaqea5y xav7gou x9f619 x1ypdohk xt0psk2 xe8uvvx xdj266r x11i5rnm xat24cr x1mh8g0r xexx8yu x4uap5 x18d9i69 xkhd6sd x16tdsg8 x1hl2dhg xggy1nq x1a2a7pz xt0b8zv x1fey0fg" href="https://l.facebook.com/l.php?u=http%3A%2F%2Fdfwbattleaxes.com%2F%3Ffbclid%3DIwAR3XkxgFNxS9qJNOY1lzVnIYw9bKqiL64KhvXwC2BB_O9bEwBZLfnMW4-5A&amp\;h=AT11Zj5qBJtVsCZ8Q3lBE6-P9ZXMmFkMrCJ0KL4DkQKza_9zL8U42FwFTeCVC3QkpYGpEccJQ9-UsWcFcCdhASH3f7tDNrz5NpusEa8zZVqm9BnCXmkSHxrse3176tMDVKOg&amp\;__tn__=q&amp\;c[0]=AT0AalDG9re2Tz733NAHe_-aBRA17jWD6XgPNskLiWgAL_Ir-BxGd3NV7e5VtskjLhFbhsVb_F-O05-tnLqsLtRox-2f__e2lvSu86ufAxiazbkMx7HFj-f0_bXgfKaPov-2QjReiuB56571O7QYWR-i-O4c" rel="nofollow" role="link" style="cursor: pointer\; text-decoration-line: none\; outline: none\; list-style: none\; margin: 0px\; text-align: inherit\; padding: 0px\; box-sizing: border-box\; background-color: transparent\; border-width: 0px\; border-style: initial\; border-color: initial\; -webkit-tap-highlight-color: transparent\; touch-action: manipulation\; display: inline\; font-family: inherit\;" tabindex="0" target="_blank">dfwbattleaxes.com</a></div>\n\n<div class="x11i5rnm xat24cr x1mh8g0r x1vvkbs xtlvy1s" style="margin: 0.5em 0px 0px\; overflow-wrap: break-word\; font-family: &quot\;Segoe UI Historic&quot\;\, &quot\;Segoe UI&quot\;\, Helvetica\, Arial\, sans-serif\; color: rgb(5\, 5\, 5)\; font-size: 15px\; background-color: rgb(255\, 255\, 255)\;">Support From -<br />\nWrapworks<br />\nEllis County Landscaping<br />\nNeed a Guy Services<br />\nFire House Kids<br />\nElite Home Construction<br />\nSantana Heating &amp\; A/C<br />\nReliant Paving</div>\n
LOCATION:4009 Ovilla Rd Waxahachie\, TX 75167
UID:e.2888.6645
SEQUENCE:3
DTSTAMP:20260424T123821Z
URL:https://business.waxahachiechamber.com/events/details/ribbon-cutting-a-affordable-storage-6645
END:VEVENT

END:VCALENDAR
