BEGIN:VCALENDAR
VERSION:2.0
PRODID:-//ChamberMaster//Event Calendar 2.0//EN
METHOD:PUBLISH
X-PUBLISHED-TTL:P3D
REFRESH-INTERVAL:P3D
CALSCALE:GREGORIAN
BEGIN:VEVENT
DTSTART:20231115T210000Z
DTEND:20231115T213000Z
X-MICROSOFT-CDO-ALLDAYEVENT:FALSE
SUMMARY:Ribbon Cutting: All Clear Land Management
DESCRIPTION:Join us for the ribbon cutting celebration for All Clear Land Management and meet owners Ryan & Anna Welch!\n\n\n\nAll Clear Land Management is a Veteran owned & operated business that is dedicated to serving the community with honor. Services include forestry mulching\, land clearing\, culvert installations\, right-aways\, dirt work\, house pads\, gravel\, fence row\, hunting lanes\, brush removal\, driveways\, underground utilities\, concrete and more!
X-ALT-DESC;FMTTYPE=text/html:<font face="arial"><span style="font-size: 16px\;">Join us for the ribbon cutting celebration for All Clear Land Management and&nbsp\;meet owners Ryan &amp\; Anna Welch!</span></font><br />\n<br />\n<font face="arial"><span style="font-size: 16px\;">All Clear Land Management is a&nbsp\;</span></font><span style="font-family: arial\; font-size: 16px\; color: rgb(5\, 5\, 5)\; text-align: center\; background-color: rgb(255\, 255\, 255)\;">Veteran owned &amp\; operated business that is dedicated to serving the community with honor.&nbsp\;</span><font face="arial"><span style="font-size: 16px\;">Services include forestry mulching\, land clearing\, culvert installations\, right-aways\, dirt work\, house pads\, gravel\, fence row\, hunting lanes\, brush removal\, driveways\, underground utilities\, concrete and more!</span></font><br />\n<br />\n&nbsp\;
LOCATION:Waxahachie Chamber of Commerce 412 S. Rogers St.\, Suite 100 Waxahachie\, TX 75165
UID:e.2888.6677
SEQUENCE:3
DTSTAMP:20260424T124036Z
URL:https://business.waxahachiechamber.com/events/details/ribbon-cutting-all-clear-land-management-6677
END:VEVENT

END:VCALENDAR
