BEGIN:VCALENDAR
VERSION:2.0
PRODID:-//ChamberMaster//Event Calendar 2.0//EN
METHOD:PUBLISH
X-PUBLISHED-TTL:P3D
REFRESH-INTERVAL:P3D
CALSCALE:GREGORIAN
BEGIN:VEVENT
DTSTART:20231109T173000Z
DTEND:20231109T180000Z
X-MICROSOFT-CDO-ALLDAYEVENT:FALSE
SUMMARY:Ribbon Cutting: Bird's Hydraulics
DESCRIPTION:Join us for a ribbon cutting ceremony and open house celebrating Bird's Hydraulics! Lunch provided by Indian Outlaw BBQ for the first 100 people. Come celebrate with the team!\n\n\n\nBird's Hydraulics can assist you with all your fluid line repairs and restorations needs. They provide tailored hose and tubing solutions\, along with a wide selection of in-store items.
X-ALT-DESC;FMTTYPE=text/html:<span style="font-size:20px\;"><span style="font-family:arial\;">Join us for a ribbon cutting ceremony and open house celebrating Bird&#39\;s Hydraulics! Lunch provided by Indian Outlaw BBQ for the first 100 people. Come celebrate with the team!<br />\n<br />\n<span style="background-color: rgb(255\, 255\, 255)\;">Bird&#39\;s Hydraulics can assist you with all your fluid line repairs and restorations needs. They&nbsp\;</span><span style="background-color: rgb(255\, 255\, 255)\;">provide tailored hose and tubing solutions\, along with a wide selection of in-store items.</span></span></span>
LOCATION:203 Howard Rd. Waxahachie\, TX 75165
UID:e.2888.6669
SEQUENCE:3
DTSTAMP:20260424T124034Z
URL:https://business.waxahachiechamber.com/events/details/ribbon-cutting-bird-s-hydraulics-6669
END:VEVENT

END:VCALENDAR
