BEGIN:VCALENDAR
VERSION:2.0
PRODID:-//ChamberMaster//Event Calendar 2.0//EN
METHOD:PUBLISH
X-PUBLISHED-TTL:P3D
REFRESH-INTERVAL:P3D
CALSCALE:GREGORIAN
BEGIN:VEVENT
DTSTART:20240424T210000Z
DTEND:20240424T213000Z
X-MICROSOFT-CDO-ALLDAYEVENT:FALSE
SUMMARY:Ribbon Cutting: CB & CO Boutique and Salon
DESCRIPTION:Join us for a Ribbon Cutting Ceremony celebrating CB & CO Boutique and Salon!\n\n\n\nStep into our boutique and salon and experience the ultimate in convenience and style. Our one-stop shop offers the latest fashion trends in clothing\, along with expert hair services to leave you feeling fabulous. Why settle for just one when you can have it all with us? Visit us today and leave looking and feeling your best!
X-ALT-DESC;FMTTYPE=text/html:<span style="font-size:18px\;"><span style="font-family:arial\;">Join us for a Ribbon Cutting Ceremony celebrating CB &amp\; CO Boutique and Salon!<br />\n<br />\n<span style="color: rgb(36\, 36\, 36)\;">Step into our boutique and salon and experience the ultimate in convenience and style. Our one-stop shop offers the latest fashion trends in clothing\, along with expert hair services to leave you feeling fabulous. Why settle for just one when you can have it all with us? Visit us today and leave looking and feeling your best!</span></span></span>
LOCATION:210 N. Monroe\, Suite 101 Waxahachie\, TX 75165
UID:e.2888.6797
SEQUENCE:3
DTSTAMP:20260424T074719Z
URL:https://business.waxahachiechamber.com/events/details/ribbon-cutting-cb-co-boutique-and-salon-6797
END:VEVENT

END:VCALENDAR
