BEGIN:VCALENDAR
VERSION:2.0
PRODID:-//ChamberMaster//Event Calendar 2.0//EN
METHOD:PUBLISH
X-PUBLISHED-TTL:P3D
REFRESH-INTERVAL:P3D
CALSCALE:GREGORIAN
BEGIN:VEVENT
DTSTART:20240125T200000Z
DTEND:20240125T203000Z
X-MICROSOFT-CDO-ALLDAYEVENT:FALSE
SUMMARY:Ribbon Cutting: Cornerstone Caregiving
DESCRIPTION:Join us for a ribbon cutting celebrating Cornerstone Caregiving!\n\nCornerstone Caregiving provides senior in-home care assistance and specializes in 24-hour care\, Alzheimer's & Dementia\, and palliative care.\n\nMeet their team\, enjoy food and drinks\, and win door prizes!
X-ALT-DESC;FMTTYPE=text/html:<div class="xdj266r x11i5rnm xat24cr x1mh8g0r x1vvkbs" style="margin: 0px\; overflow-wrap: break-word\; font-family: &quot\;Segoe UI Historic&quot\;\, &quot\;Segoe UI&quot\;\, Helvetica\, Arial\, sans-serif\; color: rgb(5\, 5\, 5)\; font-size: 15px\;"><span style="font-size:20px\;">Join us for a ribbon cutting celebrating Cornerstone Caregiving!</span></div>\n\n<div class="x11i5rnm xat24cr x1mh8g0r x1vvkbs xtlvy1s" style="margin: 0.5em 0px 0px\; overflow-wrap: break-word\; font-family: &quot\;Segoe UI Historic&quot\;\, &quot\;Segoe UI&quot\;\, Helvetica\, Arial\, sans-serif\; color: rgb(5\, 5\, 5)\; font-size: 15px\;"><span style="font-size:20px\;">Cornerstone Caregiving provides senior in-home care assistance and specializes in 24-hour care\, Alzheimer&#39\;s &amp\; Dementia\, and palliative care.</span></div>\n\n<div class="x11i5rnm xat24cr x1mh8g0r x1vvkbs xtlvy1s" style="margin: 0.5em 0px 0px\; overflow-wrap: break-word\; font-family: &quot\;Segoe UI Historic&quot\;\, &quot\;Segoe UI&quot\;\, Helvetica\, Arial\, sans-serif\; color: rgb(5\, 5\, 5)\; font-size: 15px\;"><span style="font-size:20px\;">Meet their team\, enjoy food and drinks\, and win door prizes!</span></div>\n
LOCATION:100 Chamber Circle\, Suite 1010A Waxahachie\, Texas 75165
UID:e.2888.6705
SEQUENCE:3
DTSTAMP:20260424T090440Z
URL:https://business.waxahachiechamber.com/events/details/ribbon-cutting-cornerstone-caregiving-6705
END:VEVENT

END:VCALENDAR
