BEGIN:VCALENDAR
VERSION:2.0
PRODID:-//ChamberMaster//Event Calendar 2.0//EN
METHOD:PUBLISH
X-PUBLISHED-TTL:P3D
REFRESH-INTERVAL:P3D
CALSCALE:GREGORIAN
BEGIN:VEVENT
DTSTART:20230207T160000Z
DTEND:20230207T163000Z
X-MICROSOFT-CDO-ALLDAYEVENT:FALSE
SUMMARY:Ribbon Cutting: Elevate Infusion Therapy- Ketamine Treatment & IV Therapy
DESCRIPTION:Join us as we celebrate the Grand Opening and Ribbon Cutting for Elevate Infusion Therapy - Ketamine Therapy & IV Treatment in Waxahachie!\n\n\n\nElevate Infusion Therapy is proud to offer the latest evidence-based treatment options for various mood disorders\, migraines and more.\n\n\n\nCome meet Owners Adam Newman\, DNP\, APRN\, CRNA and Allison Insley\, BSN\, MSN\, APRN\, CRNA. Their mission is to give people control over mental illness\, pain\, and addiction\, one patient at a time.
X-ALT-DESC;FMTTYPE=text/html:<span style="font-size:18px\;"><span style="font-family:arial\;">Join us as we celebrate the Grand Opening and Ribbon Cutting for Elevate Infusion Therapy - Ketamine Therapy &amp\; IV Treatment in Waxahachie!<br />\n<br />\nElevate Infusion Therapy is proud to offer the latest evidence-based treatment options for various mood disorders\, migraines and more.<br />\n<br />\nCome meet Owners&nbsp\;<span style="color: rgb(0\, 0\, 0)\; white-space: pre-wrap\;">Adam Newman\, DNP\, APRN\, CRNA and </span><span style="color: rgb(3\, 3\, 3)\; background-color: rgb(255\, 255\, 255)\;">Allison Insley\, BSN\, MSN\, APRN\, CRNA. Their mission is to give people control over mental illness\, pain\, and addiction\, one patient at a time.</span></span></span>
LOCATION:1626 W Hwy 287 Bus #101 Waxahachie\, TX 75165
UID:e.2888.5990
SEQUENCE:3
DTSTAMP:20260424T114725Z
URL:https://business.waxahachiechamber.com/events/details/ribbon-cutting-elevate-infusion-therapy-ketamine-treatment-iv-therapy-5990
END:VEVENT

END:VCALENDAR
