BEGIN:VCALENDAR
VERSION:2.0
PRODID:-//ChamberMaster//Event Calendar 2.0//EN
METHOD:PUBLISH
X-PUBLISHED-TTL:P3D
REFRESH-INTERVAL:P3D
CALSCALE:GREGORIAN
BEGIN:VEVENT
DTSTART:20250207T183000Z
DTEND:20250207T193000Z
X-MICROSOFT-CDO-ALLDAYEVENT:FALSE
SUMMARY:Ribbon Cutting - Elmwood Homes at Waterfall Ranch
DESCRIPTION:Join us for a ribbon cutting celebrating the opening of Elmwood Homes' new model home at 130 Waterfall Ranch in Waxahachie with Super Bowl themed fun!
X-ALT-DESC;FMTTYPE=text/html:Join us for a ribbon cutting celebrating the opening of Elmwood Homes&#39\; new model home at 130 Waterfall Ranch in Waxahachie with Super Bowl themed fun!
LOCATION:130 Waterfall Ranch Waxahachie\, Texas
UID:e.2888.7569
SEQUENCE:3
DTSTAMP:20260421T042838Z
URL:https://business.waxahachiechamber.com/events/details/ribbon-cutting-elmwood-homes-at-waterfall-ranch-7569
END:VEVENT

END:VCALENDAR
