BEGIN:VCALENDAR
VERSION:2.0
PRODID:-//ChamberMaster//Event Calendar 2.0//EN
METHOD:PUBLISH
X-PUBLISHED-TTL:P3D
REFRESH-INTERVAL:P3D
CALSCALE:GREGORIAN
BEGIN:VEVENT
DTSTART:20221018T230000Z
DTEND:20221018T233000Z
X-MICROSOFT-CDO-ALLDAYEVENT:FALSE
SUMMARY:RIBBON CUTTING & FUNDRAISING DINNER: Heavenly Bridge Ministries
DESCRIPTION:Please join us for a Ribbon Cutting and Fundraising Dinner for Heavenly Bridge Ministries!\n\n\n\nRibbon Cutting will take place at 6pm\, followed by a BBQ dinner. RSVP to Ami Trull at 214-212-0723 so we can have an accurate count. Donations appreciated!
X-ALT-DESC;FMTTYPE=text/html:<span style="font-size:18px\;">Please join us for a Ribbon Cutting and Fundraising Dinner for Heavenly Bridge Ministries!<br />\n<br />\nRibbon Cutting will take place at 6pm\, followed by a BBQ dinner. RSVP to Ami Trull at 214-212-0723 so we can have an accurate count. Donations appreciated!</span>
LOCATION:Covenant Life Church 423 N. College St. Waxahachie\, TX 75165
UID:e.2888.5752
SEQUENCE:3
DTSTAMP:20260424T055907Z
URL:https://business.waxahachiechamber.com/events/details/ribbon-cutting-fundraising-dinner-heavenly-bridge-ministries-5752
END:VEVENT

END:VCALENDAR
