BEGIN:VCALENDAR
VERSION:2.0
PRODID:-//ChamberMaster//Event Calendar 2.0//EN
METHOD:PUBLISH
X-PUBLISHED-TTL:P3D
REFRESH-INTERVAL:P3D
CALSCALE:GREGORIAN
BEGIN:VEVENT
DTSTART:20241018T203000Z
DTEND:20241018T203000Z
X-MICROSOFT-CDO-ALLDAYEVENT:FALSE
SUMMARY:Ribbon Cutting & Grand Opening: Skin Lab & Co
DESCRIPTION:Join us for a ribbon cutting celebrating the Grand Opening of Skin Lab & Co. which specializes in skincare treatments\, facials\, injections\, brows\, lashes\, permanent makeup\, and body waxing.\n\n\n\nFollowing the ribbon cutting enjoy refreshments\, hors d'oeuvres\, prizes\, and special guests:\n\nHydramed Mobile IV with Rose Johnson\n\nFloozy Moose (custom hats/caps)\n\nSB & Co. Permanent Jewelry
X-ALT-DESC;FMTTYPE=text/html:<div dir="auto" style="border: 0px\; font-variant-numeric: inherit\; font-variant-east-asian: inherit\; font-variant-alternates: inherit\; font-variant-position: inherit\; font-stretch: inherit\; font-size: 15px\; line-height: inherit\; font-family: &quot\;Segoe UI&quot\;\, &quot\;Segoe UI Web (West European)&quot\;\, -apple-system\, BlinkMacSystemFont\, Roboto\, &quot\;Helvetica Neue&quot\;\, sans-serif\; font-optical-sizing: inherit\; font-size-adjust: inherit\; font-kerning: inherit\; font-feature-settings: inherit\; font-variation-settings: inherit\; margin: 0px\; padding: 0px\; vertical-align: baseline\; color: rgb(36\, 36\, 36)\;"><span style="font-size:22px\;">Join us for a ribbon cutting celebrating the Grand Opening of Skin Lab &amp\; Co. which specializes&nbsp\;in skincare treatments\, facials\, injections\, brows\, lashes\, permanent makeup\, and body waxing.<br />\n<br />\nFollowing the ribbon cutting enjoy <span style="color: rgb(36\, 36\, 36)\; font-family: &quot\;Segoe UI&quot\;\, &quot\;Segoe UI Web (West European)&quot\;\, -apple-system\, BlinkMacSystemFont\, Roboto\, &quot\;Helvetica Neue&quot\;\, sans-serif\;">refreshments\, hors d&rsquo\;oeuvres\, prizes\, and&nbsp\;</span>special guests:</span></div>\n\n<div dir="auto" style="border: 0px\; font-variant-numeric: inherit\; font-variant-east-asian: inherit\; font-variant-alternates: inherit\; font-variant-position: inherit\; font-stretch: inherit\; font-size: 15px\; line-height: inherit\; font-family: &quot\;Segoe UI&quot\;\, &quot\;Segoe UI Web (West European)&quot\;\, -apple-system\, BlinkMacSystemFont\, Roboto\, &quot\;Helvetica Neue&quot\;\, sans-serif\; font-optical-sizing: inherit\; font-size-adjust: inherit\; font-kerning: inherit\; font-feature-settings: inherit\; font-variation-settings: inherit\; margin: 0px\; padding: 0px\; vertical-align: baseline\; color: rgb(36\, 36\, 36)\;"><span style="font-size:22px\;">Hydramed Mobile IV with Rose Johnson</span></div>\n\n<div dir="auto" style="border: 0px\; font-variant-numeric: inherit\; font-variant-east-asian: inherit\; font-variant-alternates: inherit\; font-variant-position: inherit\; font-stretch: inherit\; font-size: 15px\; line-height: inherit\; font-family: &quot\;Segoe UI&quot\;\, &quot\;Segoe UI Web (West European)&quot\;\, -apple-system\, BlinkMacSystemFont\, Roboto\, &quot\;Helvetica Neue&quot\;\, sans-serif\; font-optical-sizing: inherit\; font-size-adjust: inherit\; font-kerning: inherit\; font-feature-settings: inherit\; font-variation-settings: inherit\; margin: 0px\; padding: 0px\; vertical-align: baseline\; color: rgb(36\, 36\, 36)\;"><span style="font-size:22px\;">Floozy Moose (custom hats/caps)</span></div>\n\n<div dir="auto" style="border: 0px\; font-variant-numeric: inherit\; font-variant-east-asian: inherit\; font-variant-alternates: inherit\; font-variant-position: inherit\; font-stretch: inherit\; font-size: 15px\; line-height: inherit\; font-family: &quot\;Segoe UI&quot\;\, &quot\;Segoe UI Web (West European)&quot\;\, -apple-system\, BlinkMacSystemFont\, Roboto\, &quot\;Helvetica Neue&quot\;\, sans-serif\; font-optical-sizing: inherit\; font-size-adjust: inherit\; font-kerning: inherit\; font-feature-settings: inherit\; font-variation-settings: inherit\; margin: 0px\; padding: 0px\; vertical-align: baseline\; color: rgb(36\, 36\, 36)\;"><span style="font-size:22px\;">SB &amp\; Co. Permanent Jewelry</span></div>\n
LOCATION:500 W Main St.\, Suite 100 Waxahachie\, TX 75165
UID:e.2888.7322
SEQUENCE:3
DTSTAMP:20260419T143727Z
URL:https://business.waxahachiechamber.com/events/details/ribbon-cutting-grand-opening-skin-lab-co-7322
END:VEVENT

END:VCALENDAR
