BEGIN:VCALENDAR
VERSION:2.0
PRODID:-//ChamberMaster//Event Calendar 2.0//EN
METHOD:PUBLISH
X-PUBLISHED-TTL:P3D
REFRESH-INTERVAL:P3D
CALSCALE:GREGORIAN
BEGIN:VEVENT
DTSTART:20231207T223000Z
DTEND:20231208T010000Z
X-MICROSOFT-CDO-ALLDAYEVENT:FALSE
SUMMARY:Ribbon Cutting & Grand Opening: The Village at Waxahachie
DESCRIPTION:Join us for a ribbon cutting ceremony at 4:30pm for The Village at Waxahachie and then stay for the Grand Opening event from 5-7pm.\n\n\n\nFood truck\, DJ\, Bartender\, Kid's Face Painting\, Prizes
X-ALT-DESC;FMTTYPE=text/html:<span style="font-size:18px\;"><span style="font-family:tahoma\;">Join us for a ribbon cutting ceremony at 4:30pm for The Village at Waxahachie and then stay for the Grand Opening event from 5-7pm.<br />\n<br />\nFood truck\, DJ\, Bartender\, Kid&#39\;s Face Painting\, Prizes</span></span><br />\n<br />\n<br />\n<br />\n&nbsp\;
LOCATION:131 Village Parkway Waxahachie\, TX 75165
UID:e.2888.6685
SEQUENCE:3
DTSTAMP:20260424T111407Z
URL:https://business.waxahachiechamber.com/events/details/ribbon-cutting-grand-opening-the-village-at-waxahachie-6685
END:VEVENT

END:VCALENDAR
