BEGIN:VCALENDAR
VERSION:2.0
PRODID:-//ChamberMaster//Event Calendar 2.0//EN
METHOD:PUBLISH
X-PUBLISHED-TTL:P3D
REFRESH-INTERVAL:P3D
CALSCALE:GREGORIAN
BEGIN:VEVENT
DTSTART:20221208T210000Z
DTEND:20221209T000000Z
X-MICROSOFT-CDO-ALLDAYEVENT:FALSE
SUMMARY:Ribbon Cutting/Grand Reopening: Brookdale Waxahachie
DESCRIPTION:You're invited to celebrate Brookdale Waxahachie's Grand Reopening and Ribbon Cutting! They look forward to showing you all of the new ways they are making life better at Brookdale. Ribbon Cutting will take place at 3pm. Enjoy music\, food and drinks until 6pm.
X-ALT-DESC;FMTTYPE=text/html:You&#39\;re invited to celebrate Brookdale Waxahachie&#39\;s Grand Reopening and Ribbon Cutting! They look forward to showing you all of the new ways they are making life better at Brookdale. Ribbon Cutting will take place at 3pm. Enjoy music\, food and drinks until 6pm.
LOCATION:2250 Brown St. Waxahachie\, TX 75165
UID:e.2888.5883
SEQUENCE:3
DTSTAMP:20260424T080923Z
URL:https://business.waxahachiechamber.com/events/details/ribbon-cutting-grand-reopening-brookdale-waxahachie-5883
END:VEVENT

END:VCALENDAR
