BEGIN:VCALENDAR
VERSION:2.0
PRODID:-//ChamberMaster//Event Calendar 2.0//EN
METHOD:PUBLISH
X-PUBLISHED-TTL:P3D
REFRESH-INTERVAL:P3D
CALSCALE:GREGORIAN
BEGIN:VEVENT
DTSTART:20240229T223000Z
DTEND:20240229T230000Z
X-MICROSOFT-CDO-ALLDAYEVENT:FALSE
SUMMARY:Ribbon Cutting: Jamie Travels Everywhere with Wine Shop at Home
DESCRIPTION:Kindly join us for a ribbon cutting ceremony celebrating Jamie Travels Everywhere Travel Agency!\n\n\n\nCome hear about travel and enjoy a wine tasting from WineShop at Home while unwinding from the workday!\n\n\n\nJamie Travels Everywhere organizes the travel process in all its forms for all clients using the best practices and best prices for their unique destinations and purposes. Contact Jamie to make all your travel dreams come true!
X-ALT-DESC;FMTTYPE=text/html:<p><span style="font-size:20px\;"><span style="font-family:arial\;">Kindly join us for a ribbon cutting ceremony celebrating Jamie Travels Everywhere Travel Agency!<br />\n<br />\nCome hear about travel and enjoy a wine tasting from WineShop at Home while unwinding from the workday!<br />\n<br />\nJamie Travels Everywhere&nbsp\;organizes the travel process in all its forms for all clients using the best practices and best prices for their unique destinations and purposes. Contact Jamie to make all your travel dreams come true!</span></span></p>\n
LOCATION:Waxahachie Chamber of Commerce 412 S. Rogers\, Suite 100 Waxahachie\, TX 75165
UID:e.2888.6766
SEQUENCE:3
DTSTAMP:20260420T190351Z
URL:https://business.waxahachiechamber.com/events/details/ribbon-cutting-jamie-travels-everywhere-with-wine-shop-at-home-6766
END:VEVENT

END:VCALENDAR
