BEGIN:VCALENDAR
VERSION:2.0
PRODID:-//ChamberMaster//Event Calendar 2.0//EN
METHOD:PUBLISH
X-PUBLISHED-TTL:P3D
REFRESH-INTERVAL:P3D
CALSCALE:GREGORIAN
BEGIN:VEVENT
DTSTART:20231205T163000Z
DTEND:20231205T170000Z
X-MICROSOFT-CDO-ALLDAYEVENT:FALSE
SUMMARY:Ribbon Cutting: Legacy Open MRI
DESCRIPTION:Join us for a ribbon cutting celebrating Legacy Open MRI!
X-ALT-DESC;FMTTYPE=text/html:Join us for a ribbon cutting celebrating Legacy Open MRI!
LOCATION:101 Executive Ct\, Ste 100A Waxahachie\, TX 75165
UID:e.2888.6695
SEQUENCE:3
DTSTAMP:20260424T110006Z
URL:https://business.waxahachiechamber.com/events/details/ribbon-cutting-legacy-open-mri-6695
END:VEVENT

END:VCALENDAR
