BEGIN:VCALENDAR
VERSION:2.0
PRODID:-//ChamberMaster//Event Calendar 2.0//EN
METHOD:PUBLISH
X-PUBLISHED-TTL:P3D
REFRESH-INTERVAL:P3D
CALSCALE:GREGORIAN
BEGIN:VEVENT
DTSTART:20240306T153000Z
DTEND:20240306T160000Z
X-MICROSOFT-CDO-ALLDAYEVENT:FALSE
SUMMARY:Ribbon Cutting: LPS AC/Heating & Insulation
DESCRIPTION:Join us as we celebrate LPS AC/Heating & Insulation with a ribbon cutting celebration at the Waxahachie Chamber of Commerce! Serving Ellis & Hill Counties\, with over 15 years in the air conditioning\, heating\, and insulation business\, no job is too big or small. Give owner Tres Rowlette a call for a free estimate - 903-467-8496.
X-ALT-DESC;FMTTYPE=text/html:<span style="font-size:18px\;">Join us as we celebrate LPS AC/Heating &amp\; Insulation with a ribbon cutting celebration at the Waxahachie Chamber of Commerce! Serving Ellis &amp\; Hill Counties\, with over 15 years in the air conditioning\, heating\, and insulation business\, no job is too big or small. Give owner Tres Rowlette a call for a free estimate - 903-467-8496.</span><br />\n<br />\n&nbsp\;
LOCATION:Waxahachie Chamber of Commerce 412 S. Rogers\, Suite 100 Waxahachie\, TX 75165
UID:e.2888.6767
SEQUENCE:3
DTSTAMP:20260424T055231Z
URL:https://business.waxahachiechamber.com/events/details/ribbon-cutting-lps-ac-heating-insulation-6767
END:VEVENT

END:VCALENDAR
