BEGIN:VCALENDAR
VERSION:2.0
PRODID:-//ChamberMaster//Event Calendar 2.0//EN
METHOD:PUBLISH
X-PUBLISHED-TTL:P3D
REFRESH-INTERVAL:P3D
CALSCALE:GREGORIAN
BEGIN:VEVENT
DTSTART:20221011T170000Z
DTEND:20221011T180000Z
X-MICROSOFT-CDO-ALLDAYEVENT:FALSE
SUMMARY:RIBBON CUTTING & LUNCH: Performance Air Conditioning of Texas
DESCRIPTION:Performance Air Conditioning of Texas has outgrown their old facility and moved to a new one. We would like to invite you to join us for lunch and a Ribbon Cutting Tuesday\, October 11th at 12:00 noon. Tour the new facility\, meet the staff\, and enjoy BBQ\, and sides on us.
X-ALT-DESC;FMTTYPE=text/html:<br />\n<span style="color: rgb(32\, 31\, 30)\; font-family: &quot\;Segoe UI&quot\;\, &quot\;Segoe UI Web (West European)&quot\;\, &quot\;Segoe UI&quot\;\, -apple-system\, BlinkMacSystemFont\, Roboto\, &quot\;Helvetica Neue&quot\;\, sans-serif\; font-size: 15px\; background-color: rgb(255\, 255\, 255)\;"><span style="font-size:18px\;">Performance Air Conditioning of Texas has outgrown their old facility and moved to a new one. We would like to invite you to join us for lunch and a Ribbon Cutting Tuesday\, October 11th at 12:00 noon. Tour the new facility\, meet the staff\, and enjoy BBQ\, and sides on us.&nbsp\;</span></span>
LOCATION:405 W. Franklin St. Waxahachie\, TX 75165
UID:e.2888.5831
SEQUENCE:3
DTSTAMP:20260424T055906Z
URL:https://business.waxahachiechamber.com/events/details/ribbon-cutting-lunch-performance-air-conditioning-of-texas-5831
END:VEVENT

END:VCALENDAR
