BEGIN:VCALENDAR
VERSION:2.0
PRODID:-//ChamberMaster//Event Calendar 2.0//EN
METHOD:PUBLISH
X-PUBLISHED-TTL:P3D
REFRESH-INTERVAL:P3D
CALSCALE:GREGORIAN
BEGIN:VEVENT
DTSTART:20221208T163000Z
DTEND:20221208T170000Z
X-MICROSOFT-CDO-ALLDAYEVENT:FALSE
SUMMARY:Ribbon Cutting: Navarro College Welding on Wheels Trailer
DESCRIPTION:Join us for a Ribbon Cutting Ceremony for the new Navarro College Welding on Wheels trailer! The trailer features eight bays that provide adequate space and equipment necessary for a student to work on welding skills. It also features a work area and instructor's office. The facility is wheelchair accessible and compliant with the Americans with Disabilities Act.
X-ALT-DESC;FMTTYPE=text/html:<span style="font-size:18px\;"><span style="font-family:arial\;"><span style="color: rgb(36\, 36\, 36)\; background-color: rgb(255\, 255\, 255)\;">Join us for a Ribbon Cutting Ceremony for the new Navarro College Welding on Wheels trailer! The trailer features eight bays that provide adequate space and equipment necessary for a student to work on welding skills. It also features a work area and instructor&rsquo\;s office. The facility is wheelchair accessible and compliant with the Americans with Disabilities Act.</span></span></span>
LOCATION:1900 John Arden Dr. Waxahachie\, TX 7516 In the Back Parking Lot
UID:e.2888.5865
SEQUENCE:3
DTSTAMP:20260424T080740Z
URL:https://business.waxahachiechamber.com/events/details/ribbon-cutting-navarro-college-welding-on-wheels-trailer-5865
END:VEVENT

END:VCALENDAR
