BEGIN:VCALENDAR
VERSION:2.0
PRODID:-//ChamberMaster//Event Calendar 2.0//EN
METHOD:PUBLISH
X-PUBLISHED-TTL:P3D
REFRESH-INTERVAL:P3D
CALSCALE:GREGORIAN
BEGIN:VEVENT
DTSTART:20231201T223000Z
DTEND:20231201T230000Z
X-MICROSOFT-CDO-ALLDAYEVENT:FALSE
SUMMARY:Ribbon Cutting: Reclaim Wellness Collective
DESCRIPTION:Join us for a ribbon cutting celebration as Reclaim PT + Wellness opens the Reclaim Wellness Collective!\n\n\n\nTHE VISION\n\nHolistic collective space devoted to women's wellness in downtown Waxahachie\n\n\n\nSupports physical\, mental\, emotional\, and spiritual wellness for women with an emphasis on prenatal/postpartum\n\n\n\nAcknowledges and holds space for challenges versus normalizing symptoms\n\n\n\nProvides belonging and empathetic care for women and their families during pregnancy and post-birth\n\n\n\nEmpowers women with education in order to pour into the next generation of children and families\n\n\n\nSERVICES\nPelvic Floor Physical Therapy\, Orthopedic Physical Therapy\, Pediatric Physical Therapy\, Integrative Dry Needling\, Books\, Programs\, & Wellness Coaching for Mothers\, Prevention of & Recovery from Postpartum Anxiety & Depression
X-ALT-DESC;FMTTYPE=text/html:Join us for a ribbon cutting celebration as Reclaim PT + Wellness opens the Reclaim Wellness Collective!<br />\n<br />\nTHE VISION<br />\nHolistic collective space devoted to women&rsquo\;s wellness in downtown Waxahachie<br />\n<br />\nSupports physical\, mental\, emotional\, and spiritual wellness for women with an emphasis on prenatal/postpartum<br />\n<br />\nAcknowledges and holds space for challenges versus normalizing symptoms<br />\n<br />\nProvides belonging and empathetic care for women and their families during pregnancy and post-birth<br />\n<br />\nEmpowers women with education in order to pour into the next generation of children and families<br />\n<br />\nSERVICES\n<h2 style="color: rgb(36\, 36\, 36)\; font-family: &quot\;Segoe UI&quot\;\, &quot\;Segoe UI Web (West European)&quot\;\, &quot\;Segoe UI&quot\;\, -apple-system\, BlinkMacSystemFont\, Roboto\, &quot\;Helvetica Neue&quot\;\, sans-serif\; margin: 0px 0px 2px\; opacity: 1\;"><font color="black" face="arial\,sans-serif" size="2">Pelvic Floor Physical Therapy\, Orthopedic Physical Therapy\, Pediatric Physical Therapy\, Integrative Dry Needling\, Books\, Programs\, &amp\; Wellness Coaching for Mothers\, Prevention of &amp\; Recovery from Postpartum Anxiety &amp\; Depression</font></h2>\n<br />\n<br />\n<br />\n&nbsp\;
LOCATION:409 E Jefferson Waxahachie\, TX 75165
UID:e.2888.6694
SEQUENCE:3
DTSTAMP:20260424T124247Z
URL:https://business.waxahachiechamber.com/events/details/ribbon-cutting-reclaim-wellness-collective-6694
END:VEVENT

END:VCALENDAR
