BEGIN:VCALENDAR
VERSION:2.0
PRODID:-//ChamberMaster//Event Calendar 2.0//EN
METHOD:PUBLISH
X-PUBLISHED-TTL:P3D
REFRESH-INTERVAL:P3D
CALSCALE:GREGORIAN
BEGIN:VEVENT
DTSTART:20240425T193000Z
DTEND:20240425T200000Z
X-MICROSOFT-CDO-ALLDAYEVENT:FALSE
SUMMARY:Ribbon Cutting: Revive Aesthetics & Wellness Clinic
DESCRIPTION:Join us for a ribbon cutting celebrating Revive Aesthetics & Wellness Clinic!\n\n\n\nAt Revive Clinic\, our healthcare professionals pride themselves on their ability to offer state-of-the-art treatments tailored to your individual needs. Whether you're looking to improve your outer beauty or inner wellness\, we can help. We offer treatments for fine lines\, wrinkles\, hair thinning\, improving skin texture\, dark spots\, skin tone and more. Explore the treatment options we can offer to get you feeling your BEST!
X-ALT-DESC;FMTTYPE=text/html:<div style="border: 0px\; font: inherit\; margin: 0px\; padding: 0px\; vertical-align: baseline\; color: inherit\;">\n<div style="border: 0px\; font: inherit\; margin: 0px\; padding: 0px\; vertical-align: baseline\; color: inherit\;"><span style="font-size:18px\;"><span style="font-family:arial\;">Join us for a ribbon cutting celebrating Revive Aesthetics &amp\; Wellness Clinic!<br />\n<br />\nAt Revive Clinic\, our healthcare professionals pride themselves on their ability to offer state-of-the-art treatments tailored to your individual needs. Whether you&#39\;re looking to improve your outer beauty or inner wellness\, we can help. We offer treatments for fine lines\, wrinkles\, hair thinning\, improving skin texture\, dark spots\, skin tone and more. Explore the treatment options we can offer to get you feeling your BEST!</span></span></div>\n</div>\n\n<div style="border: 0px\; font: inherit\; margin: 0px\; padding: 0px\; vertical-align: baseline\; color: inherit\;">&nbsp\;</div>\n
LOCATION:1002 Legacy Ranch Road\, Suite 102 Waxahachie\, TX 75165
UID:e.2888.6802
SEQUENCE:3
DTSTAMP:20260424T074811Z
URL:https://business.waxahachiechamber.com/events/details/ribbon-cutting-revive-aesthetics-wellness-clinic-6802
END:VEVENT

END:VCALENDAR
