BEGIN:VCALENDAR
VERSION:2.0
PRODID:-//ChamberMaster//Event Calendar 2.0//EN
METHOD:PUBLISH
X-PUBLISHED-TTL:P3D
REFRESH-INTERVAL:P3D
CALSCALE:GREGORIAN
BEGIN:VEVENT
DTSTART:20230316T150000Z
DTEND:20230316T153000Z
X-MICROSOFT-CDO-ALLDAYEVENT:FALSE
SUMMARY:Ribbon Cutting: Sims Library Bookmobile
DESCRIPTION:Join us to celebrate the new Sims Library Bookmobile! Ribbon Cutting at 10am followed by cake and coffee. The Bookmobile will be available for tours until 4pm!
X-ALT-DESC;FMTTYPE=text/html:Join us to celebrate the new Sims Library Bookmobile! Ribbon Cutting at 10am followed by cake and coffee. The Bookmobile&nbsp\;will be available for tours until 4pm!<br />\n&nbsp\;
LOCATION:515 W. Main Waxahachie
UID:e.2888.6015
SEQUENCE:3
DTSTAMP:20260424T131907Z
URL:https://business.waxahachiechamber.com/events/details/ribbon-cutting-sims-library-bookmobile-6015
END:VEVENT

END:VCALENDAR
