BEGIN:VCALENDAR
VERSION:2.0
PRODID:-//ChamberMaster//Event Calendar 2.0//EN
METHOD:PUBLISH
X-PUBLISHED-TTL:P3D
REFRESH-INTERVAL:P3D
CALSCALE:GREGORIAN
BEGIN:VEVENT
DTSTART:20221206T223000Z
DTEND:20221206T230000Z
X-MICROSOFT-CDO-ALLDAYEVENT:FALSE
SUMMARY:Ribbon Cutting: Total Men's Primary Care
DESCRIPTION:Join us for a Ribbon Cutting celebrating Total Men's  Primary Care - your one-stop shop for all your men's healthcare needs. They provide a convenient & comfortable environment focused exclusively for men.
X-ALT-DESC;FMTTYPE=text/html:<div class="x_elementToProof" style="border: 0px\; font-variant-numeric: inherit\; font-variant-east-asian: inherit\; font-stretch: inherit\; font-size: 12pt\; line-height: inherit\; font-family: Calibri\, Arial\, Helvetica\, sans-serif\, serif\, EmojiFont\; margin: 0px\; padding: 0px\; vertical-align: baseline\; background-color: rgb(255\, 255\, 255)\;">Join us for a Ribbon Cutting celebrating&nbsp\;<span class="x_ContentPasted0" style="border: 0px\; font-style: inherit\; font-variant: inherit\; font-weight: inherit\; font-stretch: inherit\; font-size: 15px\; line-height: inherit\; font-family: &quot\;Segoe UI Historic&quot\;\, &quot\;Segoe UI&quot\;\, Helvetica\, Arial\, sans-serif\, serif\, EmojiFont\; margin: 0px\; padding: 0px\; vertical-align: baseline\; color: rgb(5\, 5\, 5)\; display: inline !important\;">Total Men&#39\;s&reg\; Primary Care - your one-stop shop for all your men&#39\;s healthcare needs. They provide a convenient &amp\; comfortable environment focused exclusively for men.</span></div>\n\n<div>&nbsp\;</div>\n
LOCATION:1585 N Hwy 77\, Ste C Waxahachie\, TX 75165
UID:e.2888.5876
SEQUENCE:3
DTSTAMP:20260424T080459Z
URL:https://business.waxahachiechamber.com/events/details/ribbon-cutting-total-men-s-primary-care-5876
END:VEVENT

END:VCALENDAR
