BEGIN:VCALENDAR
VERSION:2.0
PRODID:-//ChamberMaster//Event Calendar 2.0//EN
METHOD:PUBLISH
X-PUBLISHED-TTL:P3D
REFRESH-INTERVAL:P3D
CALSCALE:GREGORIAN
BEGIN:VEVENT
DTSTART:20221104T153000Z
DTEND:20221104T160000Z
X-MICROSOFT-CDO-ALLDAYEVENT:FALSE
SUMMARY:Ribbon Cutting: Tri Pointe Homes - The Oaks of North Grove
DESCRIPTION:Join us for a Ribbon Cutting celebrating two model home openings for The Oaks of North Grove by Tri Pointe Homes!\n\n\n\nAs a leading new home builder\, Tri Pointe Homes is known for paving new paths. We create homes that make premium lifestyle possible for our customers   no matter their price range or lifestyle. We are local specialists on a national scale   committed to staying customer driven and to implementing environmentally responsible business practices. From the locations we choose to our commitment to social responsibility\, we believe in building community in every sense of the word and truly enhancing our customers' lives.
X-ALT-DESC;FMTTYPE=text/html:<span style="font-size:16px\;"><span style="font-family:arial\;">Join us for a Ribbon Cutting celebrating two<span style="color: rgb(36\, 36\, 36)\;">&nbsp\;model home openings for The Oaks of North Grove by Tri Pointe Homes!</span><br />\n<br />\n<span style="color: rgb(36\, 36\, 36)\; background-color: rgb(255\, 255\, 255)\;">As a leading new home builder\, Tri Pointe Homes is known for paving new paths. We create homes that make premium lifestyle possible for our customers &ndash\; no matter their price range or lifestyle. We are local specialists on a national scale &ndash\; committed to staying customer driven and to implementing environmentally responsible business practices. From the locations we choose to our commitment to social responsibility\, we believe in building community in every sense of the word and truly enhancing our customers&rsquo\; lives.</span></span></span><br />\n<br />\n&nbsp\;
LOCATION:608 Majestic Oak Lane Waxahachie\, TX 75165
UID:e.2888.5848
SEQUENCE:3
DTSTAMP:20260424T060723Z
URL:https://business.waxahachiechamber.com/events/details/ribbon-cutting-tri-pointe-homes-the-oaks-of-north-grove-5848
END:VEVENT

END:VCALENDAR
