BEGIN:VCALENDAR
VERSION:2.0
PRODID:-//ChamberMaster//Event Calendar 2.0//EN
METHOD:PUBLISH
X-PUBLISHED-TTL:P3D
REFRESH-INTERVAL:P3D
CALSCALE:GREGORIAN
BEGIN:VEVENT
DTSTART:20231213T220000Z
DTEND:20231214T000000Z
X-MICROSOFT-CDO-ALLDAYEVENT:FALSE
SUMMARY:Ribbon Cutting: Waxahachie Chamber of Commerce New Office
DESCRIPTION:Join us as we celebrate our new space Downtown Waxahachie. All are invited to tour the office at our open house from 4-6pm. We'll cut the ribbon at 4:30pm!
X-ALT-DESC;FMTTYPE=text/html:<span style="font-size:18px\;">Join us as we celebrate our new space Downtown Waxahachie. All are invited to tour the office at our open house from 4-6pm. We&#39\;ll cut the ribbon at 4:30pm!</span>
LOCATION:412 S Rogers St. Ste 100 Waxahachie\, TX 75165
UID:e.2888.6688
SEQUENCE:3
DTSTAMP:20260424T110511Z
URL:https://business.waxahachiechamber.com/events/details/ribbon-cutting-waxahachie-chamber-of-commerce-new-office-6688
END:VEVENT

END:VCALENDAR
