BEGIN:VCALENDAR
VERSION:2.0
PRODID:-//ChamberMaster//Event Calendar 2.0//EN
METHOD:PUBLISH
X-PUBLISHED-TTL:P3D
REFRESH-INTERVAL:P3D
CALSCALE:GREGORIAN
BEGIN:VEVENT
DTSTART:20221004T190000Z
DTEND:20221004T193000Z
X-MICROSOFT-CDO-ALLDAYEVENT:FALSE
SUMMARY:RIBBON CUTTING: Wilson Diebel\, PLLC
DESCRIPTION:Join us at the Waxahachie Chamber of Commerce for a Ribbon Cutting Ceremony celebrating Wilson Diebel\, PLLC. Founder\, Patrick Wilson\, has over two decades of experience as a lawyer in the public sector\, working for county and municipal governments\, including ten years as the County & District Attorney for Ellis County. He has a wide range of legal experience\, from commercial contracts and governmental regulations\, to employment and non-profit management.
X-ALT-DESC;FMTTYPE=text/html:<span style="font-size:16px\;">Join us at the Waxahachie Chamber of Commerce for a Ribbon Cutting Ceremony celebrating Wilson Diebel\, PLLC. Founder\, Patrick Wilson\, has over two decades of experience as a lawyer in the public sector\, working for county and municipal governments\, including ten years as the County &amp\; District Attorney for Ellis County. He has a wide range of legal experience\, from commercial contracts and governmental regulations\, to employment and non-profit management.</span>
LOCATION:Waxahachie Chamber of Commerce 102 YMCA Drive Waxahachie\, TX 75165
UID:e.2888.5789
SEQUENCE:3
DTSTAMP:20260424T035833Z
URL:https://business.waxahachiechamber.com/events/details/ribbon-cutting-wilson-diebel-pllc-5789
END:VEVENT

END:VCALENDAR
