BEGIN:VCALENDAR
VERSION:2.0
PRODID:-//ChamberMaster//Event Calendar 2.0//EN
METHOD:PUBLISH
X-PUBLISHED-TTL:P3D
REFRESH-INTERVAL:P3D
CALSCALE:GREGORIAN
BEGIN:VEVENT
DTSTART:20231013T233000Z
DTEND:20231014T010000Z
X-MICROSOFT-CDO-ALLDAYEVENT:FALSE
SUMMARY:Rise 2023: Finding Your Strength
DESCRIPTION:Join us for inspiring speakers\, interactive breakout sessions\, and a diverse range of resource tables and food vendors. The mission of Rise 2023 is to equip participants with the tools to discover their individual strengths to move through life - and even thrive.\n\n\n\nAttend at no cost\, childcare included.
X-ALT-DESC;FMTTYPE=text/html:Join us for inspiring speakers\, interactive breakout sessions\, and a diverse range of resource tables and food vendors. The mission of Rise 2023 is to equip participants with the tools to discover their individual strengths to move through life - and even thrive.<br />\n<br />\nAttend at no cost\, childcare included.
LOCATION:325 NW Renfro Burleson\, TX
UID:e.2888.6635
SEQUENCE:3
DTSTAMP:20260422T173959Z
URL:https://business.waxahachiechamber.com/events/details/rise-2023-finding-your-strength-6635
END:VEVENT

END:VCALENDAR
