BEGIN:VCALENDAR
VERSION:2.0
PRODID:-//ChamberMaster//Event Calendar 2.0//EN
METHOD:PUBLISH
X-PUBLISHED-TTL:P3D
REFRESH-INTERVAL:P3D
CALSCALE:GREGORIAN
BEGIN:VEVENT
DTSTART:20221015T150000Z
DTEND:20221016T010000Z
X-MICROSOFT-CDO-ALLDAYEVENT:FALSE
SUMMARY:Saint Joseph Catholic Church Oktoberfest
DESCRIPTION:
X-ALT-DESC;FMTTYPE=text/html:
LOCATION:600 East Marvin Ave.
UID:e.2888.5773
SEQUENCE:3
DTSTAMP:20260424T040017Z
URL:https://business.waxahachiechamber.com/events/details/saint-joseph-catholic-church-oktoberfest-5773
END:VEVENT

END:VCALENDAR
