BEGIN:VCALENDAR
VERSION:2.0
PRODID:-//ChamberMaster//Event Calendar 2.0//EN
METHOD:PUBLISH
X-PUBLISHED-TTL:P3D
REFRESH-INTERVAL:P3D
CALSCALE:GREGORIAN
BEGIN:VEVENT
DTSTART:20221111T000000Z
DTEND:20221111T020000Z
X-MICROSOFT-CDO-ALLDAYEVENT:FALSE
SUMMARY:Salt Shaker Snowman
DESCRIPTION:This fun project starts with a salt shaker. Most shakers have been found at estate sales so they will vary in shape & size. We will use clay\, chalk paint\, acrylic paint\, diamond dust\, fabric/ribbon and a couple of unusual items to complete this adorable project to add to your Christmas fun!  Instructor is Lori Souter.
X-ALT-DESC;FMTTYPE=text/html:<div>This fun project starts with a salt shaker. Most shakers have been found at estate sales so they will vary in shape &amp\; size. We will use clay\, chalk paint\, acrylic paint\, diamond dust\, fabric/ribbon and a couple of unusual items to complete this adorable project to add to your Christmas fun!&nbsp\; Instructor is Lori Souter.</div>\n
LOCATION:Hachie House 105 N. Hawkins Waxahachie\, Texas 75165
UID:e.2888.5823
SEQUENCE:3
DTSTAMP:20260424T055227Z
URL:https://business.waxahachiechamber.com/events/details/salt-shaker-snowman-5823
END:VEVENT

END:VCALENDAR
