BEGIN:VCALENDAR
VERSION:2.0
PRODID:-//ChamberMaster//Event Calendar 2.0//EN
METHOD:PUBLISH
X-PUBLISHED-TTL:P3D
REFRESH-INTERVAL:P3D
CALSCALE:GREGORIAN
BEGIN:VEVENT
DTSTART:20240425T213000Z
DTEND:20240425T230000Z
X-MICROSOFT-CDO-ALLDAYEVENT:FALSE
SUMMARY:Select Rehabilitation Open House at Arabella of Red Oak
DESCRIPTION:You're invited to learn more about LIFE by Select Rehabilitation\, a robust program of on-site physical\, occupational\, and speech therapy and wellness solutions for living life to the fullest at Arabella of Red Oak! Sign up for our free 55+ fitness classes.
X-ALT-DESC;FMTTYPE=text/html:You&#39\;re invited to learn more about LIFE by Select Rehabilitation\, a robust program of on-site physical\, occupational\, and speech therapy and wellness solutions for living life to the fullest at Arabella of Red Oak! Sign up for our free 55+ fitness classes.
LOCATION:Arabella of Red Oak Call 469-416-4881 for details
UID:e.2888.6801
SEQUENCE:3
DTSTAMP:20260424T074902Z
URL:https://business.waxahachiechamber.com/events/details/select-rehabilitation-open-house-at-arabella-of-red-oak-6801
END:VEVENT

END:VCALENDAR
