BEGIN:VCALENDAR
VERSION:2.0
PRODID:-//ChamberMaster//Event Calendar 2.0//EN
METHOD:PUBLISH
X-PUBLISHED-TTL:P3D
REFRESH-INTERVAL:P3D
CALSCALE:GREGORIAN
BEGIN:VEVENT
DTSTART:20221003T230000Z
DTEND:20221004T010000Z
X-MICROSOFT-CDO-ALLDAYEVENT:FALSE
SUMMARY:Self-Defense - Preventing the Attack
DESCRIPTION:Don't be a victim! Join the professionals to learn street awareness and what you can do to keep from being attacked. Instructor is Officer James Taylor\, Waxahachie PD
X-ALT-DESC;FMTTYPE=text/html:<span style="background-color:rgb(255\, 255\, 255)\; font-family:roboto\,robotodraft\,helvetica\,arial\,sans-serif\; font-size:13px">Don&#39\;t be a victim! Join the professionals to learn street awareness and what you can do to keep from being attacked. Instructor is Officer James Taylor\, Waxahachie PD</span>
LOCATION:Waxahachie Global High School 275 Indian Drive Waxahachie\, TX 75165
UID:e.2888.5815
SEQUENCE:3
DTSTAMP:20260424T054444Z
URL:https://business.waxahachiechamber.com/events/details/self-defense-preventing-the-attack-5815
END:VEVENT

END:VCALENDAR
