BEGIN:VCALENDAR
VERSION:2.0
PRODID:-//ChamberMaster//Event Calendar 2.0//EN
METHOD:PUBLISH
X-PUBLISHED-TTL:P3D
REFRESH-INTERVAL:P3D
CALSCALE:GREGORIAN
BEGIN:VEVENT
DTSTART:20221118T000000Z
DTEND:20221118T020000Z
X-MICROSOFT-CDO-ALLDAYEVENT:FALSE
SUMMARY:Sparkly Snowman
DESCRIPTION:This sweet snowman stays out all year at The Hachie House! He's just too cute to pack away! You will use clay\, acrylic & chalk paints\, mica\, diamond dust\, vintage dictionary paper\, wood slice and other embellishments to create the adorable little guy from scratch. Bet you will want to keep it out all year too! Instructor is Lori Souter.
X-ALT-DESC;FMTTYPE=text/html:<span style="background-color:rgb(255\, 255\, 255)"><span style="font-size:13px">This sweet snowman stays out all year at The Hachie House! He&#39\;s just too cute to pack away! You will use clay\, acrylic &amp\; chalk paints\, mica\, diamond dust\, vintage dictionary paper\, wood slice and other embellishments to create the adorable little guy from scratch. Bet you will want to keep it out all year too! Instructor is Lori Souter.</span></span>
LOCATION:Hachie House 105 N. Hawkins Waxahachie\, Texas 75165
UID:e.2888.5822
SEQUENCE:3
DTSTAMP:20260424T055611Z
URL:https://business.waxahachiechamber.com/events/details/snowman-canning-jar-lid-ornament-5822
END:VEVENT

END:VCALENDAR
