BEGIN:VCALENDAR
VERSION:2.0
PRODID:-//ChamberMaster//Event Calendar 2.0//EN
METHOD:PUBLISH
X-PUBLISHED-TTL:P3D
REFRESH-INTERVAL:P3D
CALSCALE:GREGORIAN
BEGIN:VEVENT
DTSTART:20240406T000000Z
DTEND:20240406T013000Z
X-MICROSOFT-CDO-ALLDAYEVENT:FALSE
SUMMARY:Sound of Music Theatrical Presentation
DESCRIPTION:SAGU/Nelson University theatre department presents The Sound of Music (with live orchestra).\n\nApril 5th and April 6th \n\nhttps://brushfire.com/sagu/soundofmusic/572200
X-ALT-DESC;FMTTYPE=text/html:SAGU/Nelson University theatre department presents The Sound of Music (with live orchestra).<br />\nApril 5th and April 6th&nbsp\;<br />\nhttps://brushfire.com/sagu/soundofmusic/572200&nbsp\;
LOCATION:SAGU Hagee Communication Center 499 E. University #401 Waxahachie\, TX
UID:e.2888.6795
SEQUENCE:3
DTSTAMP:20260424T075013Z
URL:https://business.waxahachiechamber.com/events/details/sound-of-music-theatrical-presentation-6795
END:VEVENT

END:VCALENDAR
