BEGIN:VCALENDAR
VERSION:2.0
PRODID:-//ChamberMaster//Event Calendar 2.0//EN
METHOD:PUBLISH
X-PUBLISHED-TTL:P3D
REFRESH-INTERVAL:P3D
CALSCALE:GREGORIAN
BEGIN:VEVENT
DTSTART:20230205T003000Z
DTEND:20230205T043000Z
X-MICROSOFT-CDO-ALLDAYEVENT:FALSE
SUMMARY:Spirit of Waxahachie Jazz Cafe
DESCRIPTION:Come dance the night away after a delicious dinner listening to our Award-Winning WHS Jazz Orchestra!!\n\n\n\nSpend the evening bidding on our fabulous Silent Auction items from vacations to pet\, spa\, and romantic getaway packages!\n\n\n\nAll proceeds benefit the Spirit of Waxahachie\, Waxahachie High School Band!
X-ALT-DESC;FMTTYPE=text/html:Come dance the night away after a delicious dinner listening to our Award-Winning WHS Jazz Orchestra!!<br />\n<br />\nSpend the evening bidding on our fabulous Silent Auction items from vacations to pet\, spa\, and romantic getaway packages!<br />\n<br />\nAll proceeds benefit the Spirit of Waxahachie\, Waxahachie High School Band!
LOCATION:Midlothian Conference Center 1 Community Drive Midlothian TX 76065
UID:e.2888.5991
SEQUENCE:3
DTSTAMP:20260424T115123Z
URL:https://business.waxahachiechamber.com/events/details/spirit-of-waxahachie-jazz-cafe-5991
END:VEVENT

END:VCALENDAR
