BEGIN:VCALENDAR
VERSION:2.0
PRODID:-//ChamberMaster//Event Calendar 2.0//EN
METHOD:PUBLISH
X-PUBLISHED-TTL:P3D
REFRESH-INTERVAL:P3D
CALSCALE:GREGORIAN
BEGIN:VEVENT
DTSTART:20221015T150000Z
DTEND:20221016T010000Z
X-MICROSOFT-CDO-ALLDAYEVENT:FALSE
SUMMARY:St Joseph Oktoberfest
DESCRIPTION:On Saturday October 15\, 2022 from 10am-8pm we are hosting our 8th annual Oktoberfest on our church grounds located at 600 East Marvin in Waxahachie. In order to better serve our growing city and county the proceeds for the event will go to our continued expansion and improvement of our facility. Oktoberfest is an all-day fun filled family entertainment event featuring live music\, exceptional food\, kids games\, bingo\, raffle\, and much more
X-ALT-DESC;FMTTYPE=text/html:On Saturday October 15\, 2022 from 10am-8pm we are hosting our 8th annual Oktoberfest on our church grounds located at 600 East Marvin in Waxahachie. In order to better serve our growing city and county the proceeds for the event will go to our continued expansion and improvement of our facility. Oktoberfest is an all-day fun filled family entertainment event featuring live music\, exceptional food\, kids games\, bingo\, raffle\, and much more
LOCATION:600 East Marvin Waxahachie\,Tx
UID:e.2888.5757
SEQUENCE:3
DTSTAMP:20260424T040057Z
URL:https://business.waxahachiechamber.com/events/details/st-joseph-oktoberfest-10-15-2022-5757
END:VEVENT

END:VCALENDAR
