BEGIN:VCALENDAR
VERSION:2.0
PRODID:-//ChamberMaster//Event Calendar 2.0//EN
METHOD:PUBLISH
X-PUBLISHED-TTL:P3D
REFRESH-INTERVAL:P3D
CALSCALE:GREGORIAN
BEGIN:VEVENT
DTSTART:20221017T230000Z
DTEND:20221018T003000Z
X-MICROSOFT-CDO-ALLDAYEVENT:FALSE
SUMMARY:Texas Trees - Tree Planting and Care
DESCRIPTION:For relaxation\, food\, protection and monetary value\, trees add so much to our landscape. This class will teach you what trees will grow best in our area\, how to plant both bare root or container-grown trees\, proper care after planting and how to control any possible pests. Instructor is Sheila Cloonen.
X-ALT-DESC;FMTTYPE=text/html:<span style="background-color:rgb(255\, 255\, 255)"><span style="font-size:13px">For relaxation\, food\, protection and monetary value\, trees add so much to our landscape. This class will teach you what trees will grow best in our area\, how to plant both bare root or container-grown trees\, proper care after planting and how to control any possible pests. Instructor is Sheila Cloonen.</span></span>
LOCATION:Waxahachie Global High School 275 Indian Drive Waxahachie\, Texas 75165
UID:e.2888.5812
SEQUENCE:3
DTSTAMP:20260424T055825Z
URL:https://business.waxahachiechamber.com/events/details/texas-trees-tree-planting-and-care-10-17-2022-5812
END:VEVENT

END:VCALENDAR
