BEGIN:VCALENDAR
VERSION:2.0
PRODID:-//ChamberMaster//Event Calendar 2.0//EN
METHOD:PUBLISH
X-PUBLISHED-TTL:P3D
REFRESH-INTERVAL:P3D
CALSCALE:GREGORIAN
BEGIN:VEVENT
DTSTART:20260208T010000Z
DTEND:20260208T030000Z
X-MICROSOFT-CDO-ALLDAYEVENT:FALSE
SUMMARY:The Velvet Note: A Killer Jazz Soiree
DESCRIPTION:Join us for an unforgettable evening of jazz\, vintage glamour\, and mystery!\n\n\n\nThe WHS Jazz Band and award-winning drama department present a night of swinging tunes\, theatrical suspense\, and an elegant dinner. Dress to impress!
X-ALT-DESC;FMTTYPE=text/html:<span style="font-size:20px\;"><span style="font-family:arial\;">Join us for an unforgettable evening of jazz\, vintage glamour\, and mystery!<br />\n<br />\nThe WHS Jazz Band and award-winning drama department present a night of swinging tunes\, theatrical suspense\, and an elegant dinner. Dress to impress!</span></span>
LOCATION:Waxahachie Civic Center
UID:e.2888.8094
SEQUENCE:3
DTSTAMP:20260422T104134Z
URL:https://business.waxahachiechamber.com/events/details/the-velvet-note-a-killer-jazz-soiree-8094
END:VEVENT

END:VCALENDAR
