BEGIN:VCALENDAR
VERSION:2.0
PRODID:-//ChamberMaster//Event Calendar 2.0//EN
METHOD:PUBLISH
X-PUBLISHED-TTL:P3D
REFRESH-INTERVAL:P3D
CALSCALE:GREGORIAN
BEGIN:VEVENT
DTSTART:20221112T230000Z
DTEND:20221113T055500Z
X-MICROSOFT-CDO-ALLDAYEVENT:FALSE
SUMMARY:TRENT WALKER & HAYDEN HILLIARD CONCERT AT BATTLE AXE EVENTS
DESCRIPTION:Bring your rowdy crowd to Waxahachie on Saturday\, November 12 for the first-ever Pasture Bash\, featuring Texas country artists Trent Walker and Hayden Hilliard. Gates open at 5pm and music kicks off at 7pm.
X-ALT-DESC;FMTTYPE=text/html:<font face="arial"><span style="font-size: 20px\;">Bring your rowdy crowd to Waxahachie on Saturday\, November 12 for the first-ever Pasture Bash\, featuring Texas country artists Trent Walker and Hayden Hilliard. Gates open at 5pm and music kicks off at 7pm.</span></font>
LOCATION:BATTLE AXE EVENTS 3481 Old Maypearl Rd Waxahachie\, TX 75167
UID:e.2888.5850
SEQUENCE:3
DTSTAMP:20260424T060611Z
URL:https://business.waxahachiechamber.com/events/details/trent-walker-hayden-hilliard-concert-at-battle-axe-events-5850
END:VEVENT

END:VCALENDAR
