BEGIN:VCALENDAR
VERSION:2.0
PRODID:-//ChamberMaster//Event Calendar 2.0//EN
METHOD:PUBLISH
X-PUBLISHED-TTL:P3D
REFRESH-INTERVAL:P3D
CALSCALE:GREGORIAN
BEGIN:VEVENT
DTSTART:20231208T150000Z
DTEND:20231208T200000Z
X-MICROSOFT-CDO-ALLDAYEVENT:FALSE
SUMMARY:Volunteer for Christmas with Dignity Set Up
DESCRIPTION:Please click on link below to sign up to volunteer to set up for Common Ground Ministries' Christmas with Dignity:\n\n\n\nhttps://forms.gle/K5ExvKFfMbyuG4t57\n\n\n\nTo donate for toy purchases:\n\nCGM Christmas with Dignity Store - YouGiveGoods
X-ALT-DESC;FMTTYPE=text/html:Please click on link below to sign up to volunteer to set up for Common Ground Ministries&#39\; Christmas with Dignity:<br />\n<br />\n<a data-auth="NotApplicable" data-linkindex="1" href="https://urldefense.proofpoint.com/v2/url?u=https-3A__forms.gle_K5ExvKFfMbyuG4t57&amp\;d=DwQFAg&amp\;c=euGZstcaTDllvimEN8b7jXrwqOf-v5A_CdpgnVfiiMM&amp\;r=Z_93pXwySM1VqRque0PuegKdKUdhpRwnIpx0Njtmeps&amp\;m=HYWHaKZejT_T8ZFLTU3HgW2cSN2DCqiENJjnYTreNHpIGmsVKHrhrLrb1WWa9lQu&amp\;s=EMfanuvV2-Ssb_AVDzcYZMLXTV-DnggnBVJZXJtXuVc&amp\;e=" rel="noopener noreferrer" style="color: rgb(5\, 99\, 193)\; font: inherit\; border: 0px\; margin: 0px\; padding: 0px\; vertical-align: baseline\;" target="_blank">https://forms.gle/K5ExvKFfMbyuG4t57</a><br />\n<br />\nTo donate for toy purchases:<br />\n<a href="https://yougivegoods.com/cgm-2023-christmas-store">CGM Christmas with Dignity Store - YouGiveGoods</a>
LOCATION:
UID:e.2888.6691
SEQUENCE:3
DTSTAMP:20260424T110119Z
URL:https://business.waxahachiechamber.com/events/details/volunteer-for-christmas-with-dignity-set-up-6691
END:VEVENT

END:VCALENDAR
